BEGIN_USGS_DOQ_HEADER *
QUADRANGLE_NAME "RAINBOW MOUNTAIN" 3.45 or 7.5-min. name*
QUADRANT NW quadrant indicator if cell size = 3.75-minutes*
WEST_LONGITUDE -122 0 0.000 signed deg min sec SDDD MM SS.SSS*
EAST_LONGITUDE -121 56 15.000 signed deg min sec SDDD MM SS.SSS*
NORTH_LATITUDE 41 30 0.000 signed deg min sec SDDD MM SS.SSS*
SOUTH_LATITUDE 41 26 15.000 signed deg min sec SDDD MM SS.SSS*
PRODUCTION_DATE 1995 12 4 yyyy mm dd*
RASTER_ORDER LEFT_RIGHT/TOP_BOTTOM video display order*
BAND_ORGANIZATION "SINGLE FILE" single file or BSQ, or BIL or BIP*
BAND_CONTENT BLACK&WHITE black&white or red green blue*
BITS_PER_PIXEL 8 radiometric resolution*
SAMPLES_AND_LINES 6005 7626 number of columns and rows*
HORIZONTAL_DATUM NAD83 primary horizontal datum*
HORIZONTAL_COORDINATE_SYSTEM UTM *
COORDINATE_ZONE 10 coordinate system zone number*
HORIZONTAL_UNITS METERS coordinate system units*
HORIZONTAL_RESOLUTION 1.00 pixel horiz. ground sample distance*
SECONDARY_HORIZONTAL_DATUM NAD27 secondary horizontal datum*
XY_ORIGIN 583065.500 4595113.500 coord. of upper left pixel pri. datum*
SECONDARY_XY_ORIGIN 583160.775 4594915.517 coord upper left pixel sec datum*
NATION US nation code*
STATE CA state fip code*
NW_QUAD_CORNER_XY 583463.295 4594746.871 XY coords. of pri. NW quad corner*
NE_QUAD_CORNER_XY 588679.823 4594809.091 XY coords. of pri. NE quad corner*
SE_QUAD_CORNER_XY 588765.043 4587870.283 XY coords. of pri. SE quad corner*
SW_QUAD_CORNER_XY 583543.501 4587808.079 XY coords. of pri. SW quad corner*
SECONDARY_NW_QUAD_XY 583465.569 4594534.134 XY coords. - sec. NW quad cor.*
SECONDARY_NE_QUAD_XY 588682.239 4594596.356 XY coords. - sec. NE quad cor.*
SECONDARY_SE_QUAD_XY 588767.457 4587657.650 XY coords. - sec. SE quad cor.*
SECONDARY_SW_QUAD_XY 583545.773 4587595.445 XY coords. - sec. SW quad cor.*
RMSE_XY 0.90 doq horiz. accuracy*
IMAGE_SOURCE "BLACK AND WHITE FILM" b&w, cir, natural color, other*
SOURCE_IMAGE_ID "PAPP 2222 222" source image id*
SOURCE_IMAGE_DATE 1993 8 27 source image date as yyyy mm dd*
SOURCE_DEM_DATE 1995 12 4 source dem date yyyy mm dd*
AGENCY "WESTERN MAPPING CENTER (WMC)" oversight agency*
PRODUCER "Woolpert Consultants" producer/contractor*
PRODUCTION_SYSTEM "INTERGRAPH ISPM,ISIR" production system*
STANDARD_VERSION 1996 12 version of DOQ standard*
METADATA_DATE 1997 5 23 date created or changed, yyyy mm dd*
DATA_FILE_SIZE 45800135 data set size in bytes*
BYTE_COUNT 6005 header byte count* * * * * * * * * * * * * * * * * * * * * * * * * * * * * * * * *
END_USGS_HEADER *
