BEGIN_USGS_DOQ_HEADER *
QUADRANGLE_NAME "RAINBOW MOUNTAIN" *
QUADRANT NW *
WEST_LONGITUDE -122 0 0.000 *
EAST_LONGITUDE -121 56 15.000 *
NORTH_LATITUDE 41 30 0.000 *
SOUTH_LATITUDE 41 26 15.000 *
PRODUCTION_DATE 2001 4 24 *
RASTER_ORDER LEFT_RIGHT/TOP_BOTTOM *
BAND_ORGANIZATION "SINGLE FILE" *
BAND_CONTENT BLACK&WHITE *
BITS_PER_PIXEL 8 *
SAMPLES_AND_LINES 5995 7616 *
HORIZONTAL_DATUM NAD83 *
HORIZONTAL_COORDINATE_SYSTEM UTM *
COORDINATE_ZONE 10 *
HORIZONTAL_UNITS METERS *
HORIZONTAL_RESOLUTION 1.0 *
SECONDARY_HORIZONTAL_DATUM NAD27 *
XY_ORIGIN 583070.791 4595109.091 *
SECONDARY_XY_ORIGIN 583166.069 4594911.109 *
NATION US *
STATE CA *
NW_QUAD_CORNER_XY 583463.295 4594746.871 *
NE_QUAD_CORNER_XY 588679.823 4594809.091 *
SE_QUAD_CORNER_XY 588765.043 4587870.283 *
SW_QUAD_CORNER_XY 583543.501 4587808.079 *
SECONDARY_NW_QUAD_XY 583465.571 4594534.135 *
SECONDARY_NE_QUAD_XY 588682.240 4594596.357 *
SECONDARY_SE_QUAD_XY 588767.458 4587657.651 *
SECONDARY_SW_QUAD_XY 583545.775 4587595.447 *
RMSE_XY 1.58 *
IMAGE_SOURCE "BLACK AND WHITE FILM" *
SOURCE_IMAGE_ID "NAPP 10508 17" *
SOURCE_IMAGE_DATE 1998 9 13 *
SOURCE_IMAGE_ID "NAPP 10508 16" *
SOURCE_IMAGE_DATE 1998 9 13 *
SOURCE_IMAGE_ID "NAPP 10508 18" *
SOURCE_IMAGE_DATE 1998 9 13 *
SOURCE_IMAGE_ID "NAPP 10487 3" *
SOURCE_IMAGE_DATE 1998 8 27 *
SOURCE_IMAGE_ID "NAPP 10487 4" *
SOURCE_IMAGE_DATE 1998 8 27 *
SOURCE_IMAGE_ID "NAPP 10487 5" *
SOURCE_IMAGE_DATE 1998 8 27 *
SOURCE_IMAGE_ID "NAPP 10508 61" *
SOURCE_IMAGE_DATE 1998 9 13 *
SOURCE_IMAGE_ID "NAPP 10508 60" *
SOURCE_IMAGE_DATE 1998 9 13 *
SOURCE_IMAGE_ID "NAPP 10508 59" *
SOURCE_IMAGE_DATE 1998 9 13 *
SOURCE_DEM_DATE 2000 0 0 *
AGENCY "WESTERN MAPPING CENTER (WMC)" *
PRODUCER "USDA FS GEOSPATIAL SERVICE AND TECHNOLOGY CENTER" *
PRODUCTION_SYSTEM "ORBIT OR_RECTIFY V.5.2" *
STANDARD_VERSION 1996 12 *
METADATA_DATE 2001 5 16 *
DATA_FILE_SIZE 45663915 *
BYTE_COUNT 5995 * * * * * * * * * * * * * * * *
END_USGS_HEADER *
