BEGIN_USGS_DOQ_HEADER *
QUADRANGLE_NAME "WEST OF KEPHART" 3.45 or 7.5-min. name*
QUADRANT NE quadrant indicator if cell size = 3.75-minutes*
WEST_LONGITUDE -121 26 15.000 signed deg min sec SDDD MM SS.SSS*
EAST_LONGITUDE -121 22 30.000 signed deg min sec SDDD MM SS.SSS*
NORTH_LATITUDE 41 37 30.000 signed deg min sec SDDD MM SS.SSS*
SOUTH_LATITUDE 41 33 45.000 signed deg min sec SDDD MM SS.SSS*
PRODUCTION_DATE 2000 12 4 yyyy mm dd*
RASTER_ORDER LEFT_RIGHT/TOP_BOTTOM video display order*
BAND_ORGANIZATION "SINGLE FILE" single file or BSQ, or BIL or BIP*
BAND_CONTENT BLACK&WHITE black&white or red green blue*
BITS_PER_PIXEL 8 radiometric resolution*
SAMPLES_AND_LINES 6032 7654 number of columns and rows*
HORIZONTAL_DATUM NAD83 primary horizontal datum*
HORIZONTAL_COORDINATE_SYSTEM UTM *
COORDINATE_ZONE 10 coordinate system zone number*
HORIZONTAL_UNITS METERS coordinate system units*
HORIZONTAL_RESOLUTION 1.00 pixel horiz. ground sample distance*
SECONDARY_HORIZONTAL_DATUM NAD27 secondary horizontal datum*
XY_ORIGIN 629768.000 4609718.000 coord. of upper left pixel pri. datum*
SECONDARY_XY_ORIGIN 629863.047 4609519.841 coord upper left pixel sec datum*
NATION US nation code*
STATE CA state fip code*
NW_QUAD_CORNER_XY 630161.429 4609320.840 XY coords. of pri. NW quad corner*
NE_QUAD_CORNER_XY 635368.049 4609417.068 XY coords. of pri. NE quad corner*
SE_QUAD_CORNER_XY 635498.733 4602477.920 XY coords. of pri. SE quad corner*
SW_QUAD_CORNER_XY 630287.083 4602381.718 XY coords. of pri. SW quad corner*
SECONDARY_NW_QUAD_XY 630164.985 4609107.918 XY coords. - sec. NW quad cor.*
SECONDARY_NE_QUAD_XY 635371.747 4609204.148 XY coords. - sec. NE quad cor.*
SECONDARY_SE_QUAD_XY 635502.429 4602265.102 XY coords. - sec. SE quad cor.*
SECONDARY_SW_QUAD_XY 630290.637 4602168.897 XY coords. - sec. SW quad cor.*
RMSE_XY 2.10 doq horiz. accuracy*
IMAGE_SOURCE "BLACK AND WHITE FILM" b&w, cir, natural color, other*
SOURCE_IMAGE_ID "NAPP 10504 032" source image id*
SOURCE_IMAGE_DATE 1998 08 22 source image date as yyyy mm dd*
SOURCE_DEM_DATE 2000 01 01 source dem date yyyy mm dd*
AGENCY "WESTERN MAPPING CENTER (WMC)" oversight agency*
PRODUCER "SCIENCE APPLICATIONS INTERNATIONAL" producer/contractor*
PRODUCTION_SYSTEM "GIS/MAGIC" production system*
STANDARD_VERSION 1996 12 version of DOQ standard*
METADATA_DATE 2000 12 07 date created or changed, yyyy mm dd*
DATA_FILE_SIZE 46174960 data set size in bytes*
BYTE_COUNT 6032 header byte count* * * * * * * * * * * * * * * * * * * * * * * * * * * * * * * * *
END_USGS_HEADER *
