BEGIN_USGS_DOQ_HEADER *
QUADRANGLE_NAME "TENNANT" *
QUADRANT NW *
WEST_LONGITUDE -122 0 0.000 *
EAST_LONGITUDE -121 56 15.000 *
NORTH_LATITUDE 41 37 30.000 *
SOUTH_LATITUDE 41 33 45.000 *
PRODUCTION_DATE 2001 5 14 *
RASTER_ORDER LEFT_RIGHT/TOP_BOTTOM *
BAND_ORGANIZATION "SINGLE FILE" *
BAND_CONTENT BLACK&WHITE *
BITS_PER_PIXEL 8 *
SAMPLES_AND_LINES 5983 7614 *
HORIZONTAL_DATUM NAD83 *
HORIZONTAL_COORDINATE_SYSTEM UTM *
COORDINATE_ZONE 10 *
HORIZONTAL_UNITS METERS *
HORIZONTAL_RESOLUTION 1.0 *
SECONDARY_HORIZONTAL_DATUM NAD27 *
XY_ORIGIN 582910.701 4608985.928 *
SECONDARY_XY_ORIGIN 583005.863 4608787.985 *
NATION US *
STATE CA *
NW_QUAD_CORNER_XY 583302.586 4608624.674 *
NE_QUAD_CORNER_XY 588509.067 4608686.928 *
SE_QUAD_CORNER_XY 588594.498 4601747.973 *
SW_QUAD_CORNER_XY 583382.990 4601685.736 *
SECONDARY_NW_QUAD_XY 583304.864 4608411.735 *
SECONDARY_NE_QUAD_XY 588511.487 4608473.990 *
SECONDARY_SE_QUAD_XY 588596.917 4601535.137 *
SECONDARY_SW_QUAD_XY 583385.268 4601472.898 *
RMSE_XY 1.23 *
IMAGE_SOURCE "BLACK AND WHITE FILM" *
SOURCE_IMAGE_ID "NAPP 10508 21" *
SOURCE_IMAGE_DATE 1998 9 13 *
SOURCE_IMAGE_ID "NAPP 10508 20" *
SOURCE_IMAGE_DATE 1998 9 13 *
SOURCE_IMAGE_ID "NAPP 10508 22" *
SOURCE_IMAGE_DATE 1998 9 13 *
SOURCE_IMAGE_ID "NAPP 10487 7" *
SOURCE_IMAGE_DATE 1998 8 27 *
SOURCE_IMAGE_ID "NAPP 10487 8" *
SOURCE_IMAGE_DATE 1998 8 27 *
SOURCE_IMAGE_ID "NAPP 10487 9" *
SOURCE_IMAGE_DATE 1998 8 27 *
SOURCE_IMAGE_ID "NAPP 10508 57" *
SOURCE_IMAGE_DATE 1998 9 13 *
SOURCE_IMAGE_ID "NAPP 10508 56" *
SOURCE_IMAGE_DATE 1998 9 13 *
SOURCE_IMAGE_ID "NAPP 10508 55" *
SOURCE_IMAGE_DATE 1998 9 13 *
SOURCE_DEM_DATE 2000 0 0 *
AGENCY "WESTERN MAPPING CENTER (WMC)" *
PRODUCER "USDA FS GEOSPATIAL SERVICE AND TECHNOLOGY CENTER" *
PRODUCTION_SYSTEM "ORBIT OR_RECTIFY V.5.2" *
STANDARD_VERSION 1996 12 *
METADATA_DATE 2001 5 15 *
DATA_FILE_SIZE 45560545 *
BYTE_COUNT 5983 * * * * * * * * * * * * * * * *
END_USGS_HEADER *
