BEGIN_USGS_DOQ_HEADER *
QUADRANGLE_NAME "CALDWELL BUTTE" 3.45 or 7.5-min. name*
QUADRANT SW quadrant indicator if cell size = 3.75-minutes*
WEST_LONGITUDE -121 30 0.000 signed deg min sec SDDD MM SS.SSS*
EAST_LONGITUDE -121 26 15.000 signed deg min sec SDDD MM SS.SSS*
NORTH_LATITUDE 41 41 15.000 signed deg min sec SDDD MM SS.SSS*
SOUTH_LATITUDE 41 37 30.000 signed deg min sec SDDD MM SS.SSS*
PRODUCTION_DATE 2000 12 4 yyyy mm dd*
RASTER_ORDER LEFT_RIGHT/TOP_BOTTOM video display order*
BAND_ORGANIZATION "SINGLE FILE" single file or BSQ, or BIL or BIP*
BAND_CONTENT BLACK&WHITE black&white or red green blue*
BITS_PER_PIXEL 8 radiometric resolution*
SAMPLES_AND_LINES 6022 7650 number of columns and rows*
HORIZONTAL_DATUM NAD83 primary horizontal datum*
HORIZONTAL_COORDINATE_SYSTEM UTM *
COORDINATE_ZONE 10 coordinate system zone number*
HORIZONTAL_UNITS METERS coordinate system units*
HORIZONTAL_RESOLUTION 1.00 pixel horiz. ground sample distance*
SECONDARY_HORIZONTAL_DATUM NAD27 secondary horizontal datum*
XY_ORIGIN 624441.000 4616561.000 coord. of upper left pixel pri. datum*
SECONDARY_XY_ORIGIN 624536.048 4616362.806 coord upper left pixel sec datum*
NATION US nation code*
STATE CA state fip code*
NW_QUAD_CORNER_XY 624834.052 4616167.557 XY coords. of pri. NW quad corner*
NE_QUAD_CORNER_XY 630035.619 4616260.032 XY coords. of pri. NE quad corner*
SE_QUAD_CORNER_XY 630161.429 4609320.840 XY coords. of pri. SE quad corner*
SW_QUAD_CORNER_XY 624954.826 4609228.388 XY coords. of pri. SW quad corner*
SECONDARY_NW_QUAD_XY 624837.467 4615954.531 XY coords. - sec. NW quad cor.*
SECONDARY_NE_QUAD_XY 630039.177 4616047.009 XY coords. - sec. NE quad cor.*
SECONDARY_SE_QUAD_XY 630164.985 4609107.918 XY coords. - sec. SE quad cor.*
SECONDARY_SW_QUAD_XY 624958.240 4609015.463 XY coords. - sec. SW quad cor.*
RMSE_XY 2.20 doq horiz. accuracy*
IMAGE_SOURCE "BLACK AND WHITE FILM" b&w, cir, natural color, other*
SOURCE_IMAGE_ID "NAPP 10508 190" source image id*
SOURCE_IMAGE_DATE 1998 09 13 source image date as yyyy mm dd*
SOURCE_DEM_DATE 1988 00 00 source dem date yyyy mm dd*
AGENCY "WESTERN MAPPING CENTER (WMC)" oversight agency*
PRODUCER "SCIENCE APPLICATIONS INTERNATIONAL" producer/contractor*
PRODUCTION_SYSTEM "GIS/MAGIC" production system*
STANDARD_VERSION 1996 12 version of DOQ standard*
METADATA_DATE 2000 12 07 date created or changed, yyyy mm dd*
DATA_FILE_SIZE 46074322 data set size in bytes*
BYTE_COUNT 6022 header byte count* * * * * * * * * * * * * * * * * * * * * * * * * * * * * * * * *
END_USGS_HEADER *
