BEGIN_USGS_DOQ_HEADER *
QUADRANGLE_NAME "SCHONCHIN BUTTE" 3.45 or 7.5-min. name*
QUADRANT NE quadrant indicator if cell size = 3.75-minutes*
WEST_LONGITUDE -121 33 45.000 signed deg min sec SDDD MM SS.SSS*
EAST_LONGITUDE -121 30 0.000 signed deg min sec SDDD MM SS.SSS*
NORTH_LATITUDE 41 45 0.000 signed deg min sec SDDD MM SS.SSS*
SOUTH_LATITUDE 41 41 15.000 signed deg min sec SDDD MM SS.SSS*
PRODUCTION_DATE 2000 12 6 yyyy mm dd*
RASTER_ORDER LEFT_RIGHT/TOP_BOTTOM video display order*
BAND_ORGANIZATION "SINGLE FILE" single file or BSQ, or BIL or BIP*
BAND_CONTENT BLACK&WHITE black&white or red green blue*
BITS_PER_PIXEL 8 radiometric resolution*
SAMPLES_AND_LINES 6013 7646 number of columns and rows*
HORIZONTAL_DATUM NAD83 primary horizontal datum*
HORIZONTAL_COORDINATE_SYSTEM UTM *
COORDINATE_ZONE 10 coordinate system zone number*
HORIZONTAL_UNITS METERS coordinate system units*
HORIZONTAL_RESOLUTION 1.00 pixel horiz. ground sample distance*
SECONDARY_HORIZONTAL_DATUM NAD27 secondary horizontal datum*
XY_ORIGIN 619123.000 4623407.000 coord. of upper left pixel pri. datum*
SECONDARY_XY_ORIGIN 619217.967 4623208.809 coord upper left pixel sec datum*
NATION US nation code*
STATE CA state fip code*
NW_QUAD_CORNER_XY 619516.619 4623018.074 XY coords. of pri. NW quad corner*
NE_QUAD_CORNER_XY 624713.128 4623106.795 XY coords. of pri. NE quad corner*
SE_QUAD_CORNER_XY 624834.052 4616167.557 XY coords. of pri. SE quad corner*
SW_QUAD_CORNER_XY 619632.502 4616078.857 XY coords. of pri. SW quad corner*
SECONDARY_NW_QUAD_XY 619519.894 4622804.946 XY coords. - sec. NW quad cor.*
SECONDARY_NE_QUAD_XY 624716.545 4622893.670 XY coords. - sec. NE quad cor.*
SECONDARY_SE_QUAD_XY 624837.467 4615954.531 XY coords. - sec. SE quad cor.*
SECONDARY_SW_QUAD_XY 619635.775 4615865.829 XY coords. - sec. SW quad cor.*
RMSE_XY 1.90 doq horiz. accuracy*
IMAGE_SOURCE "BLACK AND WHITE FILM" b&w, cir, natural color, other*
SOURCE_IMAGE_ID "NAPP 10508 106" source image id*
SOURCE_IMAGE_DATE 1998 09 13 source image date as yyyy mm dd*
SOURCE_DEM_DATE 2000 01 01 source dem date yyyy mm dd*
AGENCY "WESTERN MAPPING CENTER (WMC)" oversight agency*
PRODUCER "SCIENCE APPLICATIONS INTERNATIONAL" producer/contractor*
PRODUCTION_SYSTEM "GIS/MAGIC" production system*
STANDARD_VERSION 1996 12 version of DOQ standard*
METADATA_DATE 2000 12 07 date created or changed, yyyy mm dd*
DATA_FILE_SIZE 45981411 data set size in bytes*
BYTE_COUNT 6013 header byte count* * * * * * * * * * * * * * * * * * * * * * * * * * * * * * * * *
END_USGS_HEADER *
