BEGIN_USGS_DOQ_HEADER *
QUADRANGLE_NAME "SHARP MOUNTAIN" 3.45 or 7.5-min. name*
QUADRANT NW quadrant indicator if cell size = 3.75-minutes*
WEST_LONGITUDE -121 52 30.000 signed deg min sec SDDD MM SS.SSS*
EAST_LONGITUDE -121 48 45.000 signed deg min sec SDDD MM SS.SSS*
NORTH_LATITUDE 41 45 0.000 signed deg min sec SDDD MM SS.SSS*
SOUTH_LATITUDE 41 41 15.000 signed deg min sec SDDD MM SS.SSS*
PRODUCTION_DATE 1995 11 20 yyyy mm dd*
RASTER_ORDER LEFT_RIGHT/TOP_BOTTOM video display order*
BAND_ORGANIZATION "SINGLE FILE" single file or BSQ, or BIL or BIP*
BAND_CONTENT BLACK&WHITE black&white or red green blue*
BITS_PER_PIXEL 8 radiometric resolution*
SAMPLES_AND_LINES 5994 7634 number of columns and rows*
HORIZONTAL_DATUM NAD83 primary horizontal datum*
HORIZONTAL_COORDINATE_SYSTEM UTM *
COORDINATE_ZONE 10 coordinate system zone number*
HORIZONTAL_UNITS METERS coordinate system units*
HORIZONTAL_RESOLUTION 1.00 pixel horiz. ground sample distance*
SECONDARY_HORIZONTAL_DATUM NAD27 secondary horizontal datum*
XY_ORIGIN 593137.500 4623005.500 coord. of upper left pixel pri. datum*
SECONDARY_XY_ORIGIN 593232.475 4622807.552 coord upper left pixel sec datum*
NATION US nation code*
STATE CA state fip code*
NW_QUAD_CORNER_XY 593534.308 4622631.119 XY coords. of pri. NW quad corner*
NE_QUAD_CORNER_XY 598730.742 4622700.957 XY coords. of pri. NE quad corner*
SE_QUAD_CORNER_XY 598826.463 4615761.821 XY coords. of pri. SE quad corner*
SW_QUAD_CORNER_XY 593624.990 4615692.001 XY coords. of pri. SW quad corner*
SECONDARY_NW_QUAD_XY 593536.871 4622417.980 XY coords. - sec. NW quad cor.*
SECONDARY_NE_QUAD_XY 598733.447 4622487.820 XY coords. - sec. NE quad cor.*
SECONDARY_SE_QUAD_XY 598829.167 4615548.784 XY coords. - sec. SE quad cor.*
SECONDARY_SW_QUAD_XY 593627.551 4615478.962 XY coords. - sec. SW quad cor.*
RMSE_XY 1.50 doq horiz. accuracy*
IMAGE_SOURCE "BLACK AND WHITE FILM" b&w, cir, natural color, other*
SOURCE_IMAGE_ID "PAPP 7217 949" source image id*
SOURCE_IMAGE_DATE 1993 7 30 source image date as yyyy mm dd*
SOURCE_DEM_DATE 1995 11 20 source dem date yyyy mm dd*
AGENCY "WESTERN MAPPING CENTER (WMC)" oversight agency*
PRODUCER "Woolpert Consultants" producer/contractor*
PRODUCTION_SYSTEM "INTERGRAPH ISPM,ISIR" production system*
STANDARD_VERSION 1996 12 version of DOQ standard*
METADATA_DATE 1997 5 23 date created or changed, yyyy mm dd*
DATA_FILE_SIZE 45764190 data set size in bytes*
BYTE_COUNT 5994 header byte count* * * * * * * * * * * * * * * * * * * * * * * * * * * * * * * *
END_USGS_HEADER *
