BEGIN_USGS_DOQ_HEADER *
QUADRANGLE_NAME "PINNACLE LAKE" 3.45 or 7.5-min. name*
QUADRANT NE quadrant indicator if cell size = 3.75-minutes*
WEST_LONGITUDE -121 3 45.000 signed deg min sec SDDD MM SS.SSS*
EAST_LONGITUDE -121 0 0.000 signed deg min sec SDDD MM SS.SSS*
NORTH_LATITUDE 41 52 30.000 signed deg min sec SDDD MM SS.SSS*
SOUTH_LATITUDE 41 48 45.000 signed deg min sec SDDD MM SS.SSS*
PRODUCTION_DATE 2000 12 5 yyyy mm dd*
RASTER_ORDER LEFT_RIGHT/TOP_BOTTOM video display order*
BAND_ORGANIZATION "SINGLE FILE" single file or BSQ, or BIL or BIP*
BAND_CONTENT BLACK&WHITE black&white or red green blue*
BITS_PER_PIXEL 8 radiometric resolution*
SAMPLES_AND_LINES 6041 7676 number of columns and rows*
HORIZONTAL_DATUM NAD83 primary horizontal datum*
HORIZONTAL_COORDINATE_SYSTEM UTM *
COORDINATE_ZONE 10 coordinate system zone number*
HORIZONTAL_UNITS METERS coordinate system units*
HORIZONTAL_RESOLUTION 1.00 pixel horiz. ground sample distance*
SECONDARY_HORIZONTAL_DATUM NAD27 secondary horizontal datum*
XY_ORIGIN 660385.000 4638132.000 coord. of upper left pixel pri. datum*
SECONDARY_XY_ORIGIN 660479.485 4637933.731 coord upper left pixel sec datum*
NATION US nation code*
STATE CA state fip code*
NW_QUAD_CORNER_XY 660776.185 4637712.679 XY coords. of pri. NW quad corner*
NE_QUAD_CORNER_XY 665962.743 4637831.687 XY coords. of pri. NE quad corner*
SE_QUAD_CORNER_XY 666124.406 4630892.100 XY coords. of pri. SE quad corner*
SW_QUAD_CORNER_XY 660932.791 4630773.122 XY coords. of pri. SW quad corner*
SECONDARY_NW_QUAD_XY 660780.604 4637499.376 XY coords. - sec. NW quad cor.*
SECONDARY_NE_QUAD_XY 665967.304 4637618.387 XY coords. - sec. NE quad cor.*
SECONDARY_SE_QUAD_XY 666128.965 4630678.899 XY coords. - sec. SE quad cor.*
SECONDARY_SW_QUAD_XY 660937.208 4630559.917 XY coords. - sec. SW quad cor.*
RMSE_XY 1.60 doq horiz. accuracy*
IMAGE_SOURCE "BLACK AND WHITE FILM" b&w, cir, natural color, other*
SOURCE_IMAGE_ID "NAPP 10507 302" source image id*
SOURCE_IMAGE_DATE 1998 08 25 source image date as yyyy mm dd*
SOURCE_DEM_DATE 2000 01 01 source dem date yyyy mm dd*
AGENCY "WESTERN MAPPING CENTER (WMC)" oversight agency*
PRODUCER "SCIENCE APPLICATIONS INTERNATIONAL" producer/contractor*
PRODUCTION_SYSTEM "GIS/MAGIC" production system*
STANDARD_VERSION 1996 12 version of DOQ standard*
METADATA_DATE 2000 12 07 date created or changed, yyyy mm dd*
DATA_FILE_SIZE 46376757 data set size in bytes*
BYTE_COUNT 6041 header byte count* * * * * * * * * * * * * * * * * * * * * * * * * * * * * * * * *
END_USGS_HEADER *
