BEGIN_USGS_DOQ_HEADER *
QUADRANGLE_NAME "COPIC" 3.45 or 7.5-min. name*
QUADRANT SW quadrant indicator if cell size = 3.75-minutes*
WEST_LONGITUDE -121 22 30.000 signed deg min sec SDDD MM SS.SSS*
EAST_LONGITUDE -121 18 45.000 signed deg min sec SDDD MM SS.SSS*
NORTH_LATITUDE 41 48 45.000 signed deg min sec SDDD MM SS.SSS*
SOUTH_LATITUDE 41 45 0.000 signed deg min sec SDDD MM SS.SSS*
PRODUCTION_DATE 2000 12 1 yyyy mm dd*
RASTER_ORDER LEFT_RIGHT/TOP_BOTTOM video display order*
BAND_ORGANIZATION "SINGLE FILE" single file or BSQ, or BIL or BIP*
BAND_CONTENT BLACK&WHITE black&white or red green blue*
BITS_PER_PIXEL 8 radiometric resolution*
SAMPLES_AND_LINES 6022 7658 number of columns and rows*
HORIZONTAL_DATUM NAD83 primary horizontal datum*
HORIZONTAL_COORDINATE_SYSTEM UTM *
COORDINATE_ZONE 10 coordinate system zone number*
HORIZONTAL_UNITS METERS coordinate system units*
HORIZONTAL_RESOLUTION 1.00 pixel horiz. ground sample distance*
SECONDARY_HORIZONTAL_DATUM NAD27 secondary horizontal datum*
XY_ORIGIN 634582.000 4630636.000 coord. of upper left pixel pri. datum*
SECONDARY_XY_ORIGIN 634676.844 4630437.723 coord upper left pixel sec datum*
NATION US nation code*
STATE CA state fip code*
NW_QUAD_CORNER_XY 634975.029 4630234.928 XY coords. of pri. NW quad corner*
NE_QUAD_CORNER_XY 640166.542 4630335.007 XY coords. of pri. NE quad corner*
SE_QUAD_CORNER_XY 640302.759 4623395.626 XY coords. of pri. SE quad corner*
SW_QUAD_CORNER_XY 635106.197 4623295.571 XY coords. of pri. SW quad corner*
SECONDARY_NW_QUAD_XY 634978.732 4630021.708 XY coords. - sec. NW quad cor.*
SECONDARY_NE_QUAD_XY 640170.389 4630121.791 XY coords. - sec. NE quad cor.*
SECONDARY_SE_QUAD_XY 640306.603 4623182.509 XY coords. - sec. SE quad cor.*
SECONDARY_SW_QUAD_XY 635109.899 4623082.451 XY coords. - sec. SW quad cor.*
RMSE_XY 1.80 doq horiz. accuracy*
IMAGE_SOURCE "BLACK AND WHITE FILM" b&w, cir, natural color, other*
SOURCE_IMAGE_ID "NAPP 10503 198" source image id*
SOURCE_IMAGE_DATE 1998 08 22 source image date as yyyy mm dd*
SOURCE_DEM_DATE 2000 01 01 source dem date yyyy mm dd*
AGENCY "WESTERN MAPPING CENTER (WMC)" oversight agency*
PRODUCER "SCIENCE APPLICATIONS INTERNATIONAL" producer/contractor*
PRODUCTION_SYSTEM "GIS/MAGIC" production system*
STANDARD_VERSION 1996 12 version of DOQ standard*
METADATA_DATE 2000 12 07 date created or changed, yyyy mm dd*
DATA_FILE_SIZE 46122498 data set size in bytes*
BYTE_COUNT 6022 header byte count* * * * * * * * * * * * * * * * * * * * * * * * * * * * * * * * *
END_USGS_HEADER *
