BEGIN_USGS_DOQ_HEADER *
QUADRANGLE_NAME "THE PANHANDLE" 3.45 or 7.5-min. name*
QUADRANT NW quadrant indicator if cell size = 3.75-minutes*
WEST_LONGITUDE -121 30 0.000 signed deg min sec SDDD MM SS.SSS*
EAST_LONGITUDE -121 26 15.000 signed deg min sec SDDD MM SS.SSS*
NORTH_LATITUDE 41 52 30.000 signed deg min sec SDDD MM SS.SSS*
SOUTH_LATITUDE 41 48 45.000 signed deg min sec SDDD MM SS.SSS*
PRODUCTION_DATE 2000 12 4 yyyy mm dd*
RASTER_ORDER LEFT_RIGHT/TOP_BOTTOM video display order*
BAND_ORGANIZATION "SINGLE FILE" single file or BSQ, or BIL or BIP*
BAND_CONTENT BLACK&WHITE black&white or red green blue*
BITS_PER_PIXEL 8 radiometric resolution*
SAMPLES_AND_LINES 6007 7650 number of columns and rows*
HORIZONTAL_DATUM NAD83 primary horizontal datum*
HORIZONTAL_COORDINATE_SYSTEM UTM *
COORDINATE_ZONE 10 coordinate system zone number*
HORIZONTAL_UNITS METERS coordinate system units*
HORIZONTAL_RESOLUTION 1.00 pixel horiz. ground sample distance*
SECONDARY_HORIZONTAL_DATUM NAD27 secondary horizontal datum*
XY_ORIGIN 624078.000 4637379.000 coord. of upper left pixel pri. datum*
SECONDARY_XY_ORIGIN 624172.756 4637180.778 coord upper left pixel sec datum*
NATION US nation code*
STATE CA state fip code*
NW_QUAD_CORNER_XY 624470.833 4636985.485 XY coords. of pri. NW quad corner*
NE_QUAD_CORNER_XY 629657.257 4637078.029 XY coords. of pri. NE quad corner*
SE_QUAD_CORNER_XY 629783.533 4630138.627 XY coords. of pri. SE quad corner*
SW_QUAD_CORNER_XY 624592.055 4630046.105 XY coords. of pri. SW quad corner*
SECONDARY_NW_QUAD_XY 624474.254 4636772.162 XY coords. - sec. NW quad cor.*
SECONDARY_NE_QUAD_XY 629660.821 4636864.709 XY coords. - sec. NE quad cor.*
SECONDARY_SE_QUAD_XY 629787.095 4629925.405 XY coords. - sec. SE quad cor.*
SECONDARY_SW_QUAD_XY 624595.474 4629832.880 XY coords. - sec. SW quad cor.*
RMSE_XY 1.10 doq horiz. accuracy*
IMAGE_SOURCE "BLACK AND WHITE FILM" b&w, cir, natural color, other*
SOURCE_IMAGE_ID "NAPP 10508 184" source image id*
SOURCE_IMAGE_DATE 1998 09 13 source image date as yyyy mm dd*
SOURCE_DEM_DATE 2000 01 01 source dem date yyyy mm dd*
AGENCY "WESTERN MAPPING CENTER (WMC)" oversight agency*
PRODUCER "SCIENCE APPLICATIONS INTERNATIONAL" producer/contractor*
PRODUCTION_SYSTEM "GIS/MAGIC" production system*
STANDARD_VERSION 1996 12 version of DOQ standard*
METADATA_DATE 2000 12 07 date created or changed, yyyy mm dd*
DATA_FILE_SIZE 45959557 data set size in bytes*
BYTE_COUNT 6007 header byte count* * * * * * * * * * * * * * * * * * * * * * * * * * * * * * * * *
END_USGS_HEADER *
