BEGIN_USGS_DOQ_HEADER *
QUADRANGLE_NAME "RED ROCK LAKES" *
QUADRANT NW *
WEST_LONGITUDE -121 52 30.000 *
EAST_LONGITUDE -121 48 45.000 *
NORTH_LATITUDE 41 52 30.000 *
SOUTH_LATITUDE 41 48 45.000 *
PRODUCTION_DATE 2001 5 14 *
RASTER_ORDER LEFT_RIGHT/TOP_BOTTOM *
BAND_ORGANIZATION "SINGLE FILE" *
BAND_CONTENT BLACK&WHITE *
BITS_PER_PIXEL 8 *
SAMPLES_AND_LINES 5973 7622 *
HORIZONTAL_DATUM NAD83 *
HORIZONTAL_COORDINATE_SYSTEM UTM *
COORDINATE_ZONE 10 *
HORIZONTAL_UNITS METERS *
HORIZONTAL_RESOLUTION 1.0 *
SECONDARY_HORIZONTAL_DATUM NAD27 *
XY_ORIGIN 592961.372 4636878.446 *
SECONDARY_XY_ORIGIN 593056.176 4636680.548 *
NATION US *
STATE CA *
NW_QUAD_CORNER_XY 593352.608 4636509.574 *
NE_QUAD_CORNER_XY 598538.944 4636579.446 *
SE_QUAD_CORNER_XY 598634.902 4629640.165 *
SW_QUAD_CORNER_XY 593443.514 4629570.310 *
SECONDARY_NW_QUAD_XY 593355.177 4636296.239 *
SECONDARY_NE_QUAD_XY 598541.656 4636366.114 *
SECONDARY_SE_QUAD_XY 598637.612 4629426.931 *
SECONDARY_SW_QUAD_XY 593446.081 4629357.074 *
RMSE_XY 1.82 *
IMAGE_SOURCE "BLACK AND WHITE FILM" *
SOURCE_IMAGE_ID "NAPP 10501 167" *
SOURCE_IMAGE_DATE 1998 8 13 *
SOURCE_IMAGE_ID "NAPP 10501 168" *
SOURCE_IMAGE_DATE 1998 8 13 *
SOURCE_IMAGE_ID "NAPP 10502 59" *
SOURCE_IMAGE_DATE 1998 8 17 *
SOURCE_IMAGE_ID "NAPP 10508 49" *
SOURCE_IMAGE_DATE 1998 9 13 *
SOURCE_IMAGE_ID "NAPP 10508 48" *
SOURCE_IMAGE_DATE 1998 9 13 *
SOURCE_IMAGE_ID "NAPP 10508 47" *
SOURCE_IMAGE_DATE 1998 9 13 *
SOURCE_IMAGE_ID "NAPP 10501 163" *
SOURCE_IMAGE_DATE 1998 8 13 *
SOURCE_IMAGE_ID "NAPP 10501 164" *
SOURCE_IMAGE_DATE 1998 8 13 *
SOURCE_IMAGE_ID "NAPP 10502 42" *
SOURCE_IMAGE_DATE 1998 8 17 *
SOURCE_DEM_DATE 1985 1 1 *
AGENCY "WESTERN MAPPING CENTER (WMC)" *
PRODUCER "USDA FS GEOSPATIAL SERVICE AND TECHNOLOGY CENTER" *
PRODUCTION_SYSTEM "ORBIT OR_RECTIFY V.5.2" *
STANDARD_VERSION 1996 12 *
METADATA_DATE 2001 5 15 *
DATA_FILE_SIZE 45532179 *
BYTE_COUNT 5973 * * * * * * * * * * * * * * * *
END_USGS_HEADER *
