BEGIN_USGS_DOQ_HEADER *
QUADRANGLE_NAME "NEWELL" 3.45 or 7.5-min. name*
QUADRANT SW quadrant indicator if cell size = 3.75-minutes*
WEST_LONGITUDE -121 22 30.000 signed deg min sec SDDD MM SS.SSS*
EAST_LONGITUDE -121 18 45.000 signed deg min sec SDDD MM SS.SSS*
NORTH_LATITUDE 41 56 15.000 signed deg min sec SDDD MM SS.SSS*
SOUTH_LATITUDE 41 52 30.000 signed deg min sec SDDD MM SS.SSS*
PRODUCTION_DATE 2000 12 1 yyyy mm dd*
RASTER_ORDER LEFT_RIGHT/TOP_BOTTOM video display order*
BAND_ORGANIZATION "SINGLE FILE" single file or BSQ, or BIL or BIP*
BAND_CONTENT BLACK&WHITE black&white or red green blue*
BITS_PER_PIXEL 8 radiometric resolution*
SAMPLES_AND_LINES 6012 7657 number of columns and rows*
HORIZONTAL_DATUM NAD83 primary horizontal datum*
HORIZONTAL_COORDINATE_SYSTEM UTM *
COORDINATE_ZONE 10 coordinate system zone number*
HORIZONTAL_UNITS METERS coordinate system units*
HORIZONTAL_RESOLUTION 1.00 pixel horiz. ground sample distance*
SECONDARY_HORIZONTAL_DATUM NAD27 secondary horizontal datum*
XY_ORIGIN 634320.000 4644514.000 coord. of upper left pixel pri. datum*
SECONDARY_XY_ORIGIN 634414.726 4644315.744 coord upper left pixel sec datum*
NATION US nation code*
STATE CA state fip code*
NW_QUAD_CORNER_XY 634712.208 4644113.849 XY coords. of pri. NW quad corner*
NE_QUAD_CORNER_XY 639893.606 4644213.978 XY coords. of pri. NE quad corner*
SE_QUAD_CORNER_XY 640030.158 4637274.458 XY coords. of pri. SE quad corner*
SW_QUAD_CORNER_XY 634843.699 4637174.354 XY coords. of pri. SW quad corner*
SECONDARY_NW_QUAD_XY 634715.915 4643900.434 XY coords. - sec. NW quad cor.*
SECONDARY_NE_QUAD_XY 639897.456 4644000.565 XY coords. - sec. NE quad cor.*
SECONDARY_SE_QUAD_XY 640034.006 4637061.143 XY coords. - sec. SE quad cor.*
SECONDARY_SW_QUAD_XY 634847.405 4636961.036 XY coords. - sec. SW quad cor.*
RMSE_XY 1.60 doq horiz. accuracy*
IMAGE_SOURCE "BLACK AND WHITE FILM" b&w, cir, natural color, other*
SOURCE_IMAGE_ID "NAPP 10503 194" source image id*
SOURCE_IMAGE_DATE 1998 08 22 source image date as yyyy mm dd*
SOURCE_DEM_DATE 2000 01 01 source dem date yyyy mm dd*
AGENCY "WESTERN MAPPING CENTER (WMC)" oversight agency*
PRODUCER "SCIENCE APPLICATIONS INTERNATIONAL" producer/contractor*
PRODUCTION_SYSTEM "GIS/MAGIC" production system*
STANDARD_VERSION 1996 12 version of DOQ standard*
METADATA_DATE 2000 12 07 date created or changed, yyyy mm dd*
DATA_FILE_SIZE 46039896 data set size in bytes*
BYTE_COUNT 6012 header byte count* * * * * * * * * * * * * * * * * * * * * * * * * * * * * * * * *
END_USGS_HEADER *
