BEGIN_USGS_DOQ_HEADER *
QUADRANGLE_NAME TULELAKE *
WEST_LONGITUDE -121 30 00.000 *
EAST_LONGITUDE -121 22 30.000 *
NORTH_LATITUDE 042 00 00.00 *
SOUTH_LATITUDE 041 52 30.00 *
PRODUCTION_DATE 2003 08 04 *
RASTER_ORDER LEFT_RIGHT/TOP_BOTTOM *
BAND_ORGANIZATION "SINGLE FILE" *
BAND_CONTENT BLACK&WHITE *
BITS_PER_PIXEL 8 *
SAMPLES_AND_LINES 11308 14684 *
HORIZONTAL_DATUM NAD83 *
HORIZONTAL_COORDINATE_SYSTEM UTM *
COORDINATE_ZONE 10 *
HORIZONTAL_UNITS METERS *
HORIZONTAL_RESOLUTION 1.000 *
SECONDARY_HORIZONTAL_DATUM NAD27 *
XY_ORIGIN 623835.995 4651354.000 *
SECONDARY_XY_ORIGIN 623930.519 4651155.821 *
NATION US *
STATE CA *
STATE OR *
NW_QUAD_CORNER_XY 624227.943 4650864.456 *
NE_QUAD_CORNER_XY 634580.556 4651053.415 *
SE_QUAD_CORNER_XY 634843.699 4637174.354 *
SW_QUAD_CORNER_XY 624470.833 4636985.485 *
SECONDARY_NW_QUAD_XY 624231.367 4650650.939 *
SECONDARY_NE_QUAD_XY 634584.265 4650839.903 *
SECONDARY_SE_QUAD_XY 634847.405 4636961.036 *
SECONDARY_SW_QUAD_XY 624474.254 4636772.162 *
RMSE_XY 1.1277 *
IMAGE_SOURCE "Black & White film" *
SOURCE_IMAGE_ID "NAPP 12251 214" *
SOURCE_IMAGE_DATE 2000 07 25 *
SOURCE_IMAGE_ID "NAPP 12251 216" *
SOURCE_IMAGE_DATE 2000 07 25 *
SOURCE_IMAGE_ID "NAPP 12252 035" *
SOURCE_IMAGE_DATE 2000 07 25 *
SOURCE_IMAGE_ID "NAPP 12252 037" *
SOURCE_IMAGE_DATE 2000 07 25 *
SOURCE_DEM_DATE 2000 07 23 *
AGENCY "Western Mapping Center (WMC)" *
PRODUCER "State of Oregon" *
PRODUCTION_SYSTEM "Pixmap v2.0 on i386 Linux" *
STANDARD_VERSION 1996 12 *
METADATA_DATE 2003 08 24 *
DATA_FILE_SIZE 166057980 *
BYTE_COUNT 11308 * USGS_GRID 4112105 * * * * * * * * * * * * * * * * * * * * * * * * * * * * * * * * * * * * * * * * * * * * * * * * * * * * * * * * * * * * * * * * * * * * * * * * * * * * * * * * * * * * * * * * * * * *
END_USGS_HEADER *
