BEGIN_USGS_DOQ_HEADER *
QUADRANGLE_NAME "HATFIELD" 3.45 or 7.5-min. name*
QUADRANT NE quadrant indicator if cell size = 3.75-minutes*
WEST_LONGITUDE -121 33 45.000 signed deg min sec SDDD MM SS.SSS*
EAST_LONGITUDE -121 30 0.000 signed deg min sec SDDD MM SS.SSS*
NORTH_LATITUDE 42 0 0.000 signed deg min sec SDDD MM SS.SSS*
SOUTH_LATITUDE 41 56 15.000 signed deg min sec SDDD MM SS.SSS*
PRODUCTION_DATE 2000 12 6 yyyy mm dd*
RASTER_ORDER LEFT_RIGHT/TOP_BOTTOM video display order*
BAND_ORGANIZATION "SINGLE FILE" single file or BSQ, or BIL or BIP*
BAND_CONTENT BLACK&WHITE black&white or red green blue*
BITS_PER_PIXEL 8 radiometric resolution*
SAMPLES_AND_LINES 5992 7647 number of columns and rows*
HORIZONTAL_DATUM NAD83 primary horizontal datum*
HORIZONTAL_COORDINATE_SYSTEM UTM *
COORDINATE_ZONE 10 coordinate system zone number*
HORIZONTAL_UNITS METERS coordinate system units*
HORIZONTAL_RESOLUTION 1.00 pixel horiz. ground sample distance*
SECONDARY_HORIZONTAL_DATUM NAD27 secondary horizontal datum*
XY_ORIGIN 618659.000 4651165.000 coord. of upper left pixel pri. datum*
SECONDARY_XY_ORIGIN 618753.492 4650966.877 coord upper left pixel sec datum*
NATION US nation code*
STATE CA state fip code*
STATE OR state fip code*
NW_QUAD_CORNER_XY 619051.661 4650775.649 XY coords. of pri. NW quad corner*
NE_QUAD_CORNER_XY 624227.943 4650864.456 XY coords. of pri. NE quad corner*
SE_QUAD_CORNER_XY 624349.462 4643924.935 XY coords. of pri. SE quad corner*
SW_QUAD_CORNER_XY 619168.114 4643836.148 XY coords. of pri. SW quad corner*
SECONDARY_NW_QUAD_XY 619054.942 4650562.129 XY coords. - sec. NW quad cor.*
SECONDARY_NE_QUAD_XY 624231.367 4650650.939 XY coords. - sec. NE quad cor.*
SECONDARY_SE_QUAD_XY 624352.885 4643711.515 XY coords. - sec. SE quad cor.*
SECONDARY_SW_QUAD_XY 619171.394 4643622.726 XY coords. - sec. SW quad cor.*
RMSE_XY 1.90 doq horiz. accuracy*
IMAGE_SOURCE "BLACK AND WHITE FILM" b&w, cir, natural color, other*
SOURCE_IMAGE_ID "NAPP 10508 098" source image id*
SOURCE_IMAGE_DATE 1998 09 13 source image date as yyyy mm dd*
SOURCE_IMAGE_ID "NAPP 10508 099" source image id*
SOURCE_IMAGE_DATE 1998 09 13 source image date as yyyy mm dd*
SOURCE_DEM_DATE 2000 01 01 source dem date yyyy mm dd*
AGENCY "WESTERN MAPPING CENTER (WMC)" oversight agency*
PRODUCER "SCIENCE APPLICATIONS INTERNATIONAL" producer/contractor*
PRODUCTION_SYSTEM "GIS/MAGIC" production system*
STANDARD_VERSION 1996 12 version of DOQ standard*
METADATA_DATE 2000 12 07 date created or changed, yyyy mm dd*
DATA_FILE_SIZE 45826816 data set size in bytes*
BYTE_COUNT 5992 header byte count* * * * * * * * * * * * * * * * * * * * * * * * * * * * *
END_USGS_HEADER *
