BEGIN_USGS_DOQ_HEADER *
QUADRANGLE_NAME "HATFIELD" 3.45 or 7.5-min. name*
QUADRANT SW quadrant indicator if cell size = 3.75-minutes*
WEST_LONGITUDE -121 37 30.000 signed deg min sec SDDD MM SS.SSS*
EAST_LONGITUDE -121 33 45.000 signed deg min sec SDDD MM SS.SSS*
NORTH_LATITUDE 41 56 15.000 signed deg min sec SDDD MM SS.SSS*
SOUTH_LATITUDE 41 52 30.000 signed deg min sec SDDD MM SS.SSS*
PRODUCTION_DATE 2000 12 5 yyyy mm dd*
RASTER_ORDER LEFT_RIGHT/TOP_BOTTOM video display order*
BAND_ORGANIZATION "SINGLE FILE" single file or BSQ, or BIL or BIP*
BAND_CONTENT BLACK&WHITE black&white or red green blue*
BITS_PER_PIXEL 8 radiometric resolution*
SAMPLES_AND_LINES 5992 7643 number of columns and rows*
HORIZONTAL_DATUM NAD83 primary horizontal datum*
HORIZONTAL_COORDINATE_SYSTEM UTM *
COORDINATE_ZONE 10 coordinate system zone number*
HORIZONTAL_UNITS METERS coordinate system units*
HORIZONTAL_RESOLUTION 1.00 pixel horiz. ground sample distance*
SECONDARY_HORIZONTAL_DATUM NAD27 secondary horizontal datum*
XY_ORIGIN 613594.000 4644137.000 coord. of upper left pixel pri. datum*
SECONDARY_XY_ORIGIN 613688.589 4643938.924 coord upper left pixel sec datum*
NATION US nation code*
STATE CA state fip code*
NW_QUAD_CORNER_XY 613986.781 4643751.142 XY coords. of pri. NW quad corner*
NE_QUAD_CORNER_XY 619168.114 4643836.148 XY coords. of pri. NE quad corner*
SE_QUAD_CORNER_XY 619284.425 4636896.719 XY coords. of pri. SE quad corner*
SW_QUAD_CORNER_XY 614098.033 4636811.733 XY coords. of pri. SW quad corner*
SECONDARY_NW_QUAD_XY 613989.919 4643537.716 XY coords. - sec. NW quad cor.*
SECONDARY_NE_QUAD_XY 619171.394 4643622.726 XY coords. - sec. NE quad cor.*
SECONDARY_SE_QUAD_XY 619287.703 4636683.394 XY coords. - sec. SE quad cor.*
SECONDARY_SW_QUAD_XY 614101.169 4636598.405 XY coords. - sec. SW quad cor.*
RMSE_XY 1.60 doq horiz. accuracy*
IMAGE_SOURCE "BLACK AND WHITE FILM" b&w, cir, natural color, other*
SOURCE_IMAGE_ID "NAPP 10508 175" source image id*
SOURCE_IMAGE_DATE 1998 09 13 source image date as yyyy mm dd*
SOURCE_IMAGE_ID "NAPP 10508 090" source image id*
SOURCE_IMAGE_DATE 1998 09 13 source image date as yyyy mm dd*
SOURCE_IMAGE_ID "NAPP 10508 174" source image id*
SOURCE_IMAGE_DATE 1998 09 13 source image date as yyyy mm dd*
SOURCE_IMAGE_ID "NAPP 10508 176" source image id*
SOURCE_IMAGE_DATE 1998 09 13 source image date as yyyy mm dd*
SOURCE_IMAGE_ID "NAPP 10508 101" source image id*
SOURCE_IMAGE_DATE 1998 09 13 source image date as yyyy mm dd*
SOURCE_DEM_DATE 2000 01 01 source dem date yyyy mm dd*
AGENCY "WESTERN MAPPING CENTER (WMC)" oversight agency*
PRODUCER "SCIENCE APPLICATIONS INTERNATIONAL" producer/contractor*
PRODUCTION_SYSTEM "GIS/MAGIC" production system*
STANDARD_VERSION 1996 12 version of DOQ standard*
METADATA_DATE 2000 12 07 date created or changed, yyyy mm dd*
DATA_FILE_SIZE 45802848 data set size in bytes*
BYTE_COUNT 5992 header byte count* * * * * * * * * * * * * * * * * * * * * * * *
END_USGS_HEADER *
