BEGIN_USGS_DOQ_HEADER *
QUADRANGLE_NAME "SHEEPY LAKE" *
QUADRANT NW *
WEST_LONGITUDE -121 52 30.000 *
EAST_LONGITUDE -121 48 45.000 *
NORTH_LATITUDE 42 0 0.000 *
SOUTH_LATITUDE 41 56 15.000 *
PRODUCTION_DATE 2001 5 14 *
RASTER_ORDER LEFT_RIGHT/TOP_BOTTOM *
BAND_ORGANIZATION "SINGLE FILE" *
BAND_CONTENT BLACK&WHITE *
BITS_PER_PIXEL 8 *
SAMPLES_AND_LINES 5962 7623 *
HORIZONTAL_DATUM NAD83 *
HORIZONTAL_COORDINATE_SYSTEM UTM *
COORDINATE_ZONE 10 *
HORIZONTAL_UNITS METERS *
HORIZONTAL_RESOLUTION 1.0 *
SECONDARY_HORIZONTAL_DATUM NAD27 *
XY_ORIGIN 592779.404 4650757.225 *
SECONDARY_XY_ORIGIN 592874.039 4650559.379 *
NATION US *
STATE CA *
NW_QUAD_CORNER_XY 593170.462 4650388.319 *
NE_QUAD_CORNER_XY 598346.675 4650458.225 *
SE_QUAD_CORNER_XY 598442.869 4643518.799 *
SW_QUAD_CORNER_XY 593261.591 4643448.910 *
SECONDARY_NW_QUAD_XY 593173.034 4650174.791 *
SECONDARY_NE_QUAD_XY 598349.390 4650244.699 *
SECONDARY_SE_QUAD_XY 598445.582 4643305.369 *
SECONDARY_SW_QUAD_XY 593264.161 4643235.478 *
RMSE_XY 1.82 *
IMAGE_SOURCE "BLACK AND WHITE FILM" *
SOURCE_IMAGE_ID "NAPP 10502 56" *
SOURCE_IMAGE_DATE 1998 8 17 *
SOURCE_IMAGE_ID "NAPP 10502 57" *
SOURCE_IMAGE_DATE 1998 8 17 *
SOURCE_IMAGE_ID "NAPP 10502 55" *
SOURCE_IMAGE_DATE 1998 8 17 *
SOURCE_IMAGE_ID "NAPP 10508 45" *
SOURCE_IMAGE_DATE 1998 9 13 *
SOURCE_IMAGE_ID "NAPP 10508 44" *
SOURCE_IMAGE_DATE 1998 9 13 *
SOURCE_IMAGE_ID "NAPP 10508 43" *
SOURCE_IMAGE_DATE 1998 9 13 *
SOURCE_IMAGE_ID "NAPP 10502 44" *
SOURCE_IMAGE_DATE 1998 8 17 *
SOURCE_IMAGE_ID "NAPP 10502 45" *
SOURCE_IMAGE_DATE 1998 8 17 *
SOURCE_IMAGE_ID "NAPP 10502 46" *
SOURCE_IMAGE_DATE 1998 8 17 *
SOURCE_DEM_DATE 1985 1 1 *
AGENCY "WESTERN MAPPING CENTER (WMC)" *
PRODUCER "USDA FS GEOSPATIAL SERVICE AND TECHNOLOGY CENTER" *
PRODUCTION_SYSTEM "ORBIT OR_RECTIFY V.5.2" *
STANDARD_VERSION 1996 12 *
METADATA_DATE 2001 5 15 *
DATA_FILE_SIZE 45454288 *
BYTE_COUNT 5962 * * * * * * * * * * * * * * * *
END_USGS_HEADER *
