BEGIN_USGS_DOQ_HEADER *
QUADRANGLE_NAME "SHEEPY LAKE" *
QUADRANT SW *
WEST_LONGITUDE -121 52 30.000 *
EAST_LONGITUDE -121 48 45.000 *
NORTH_LATITUDE 41 56 15.000 *
SOUTH_LATITUDE 41 52 30.000 *
PRODUCTION_DATE 2001 5 14 *
RASTER_ORDER LEFT_RIGHT/TOP_BOTTOM *
BAND_ORGANIZATION "SINGLE FILE" *
BAND_CONTENT BLACK&WHITE *
BITS_PER_PIXEL 8 *
SAMPLES_AND_LINES 5968 7623 *
HORIZONTAL_DATUM NAD83 *
HORIZONTAL_COORDINATE_SYSTEM UTM *
COORDINATE_ZONE 10 *
HORIZONTAL_UNITS METERS *
HORIZONTAL_RESOLUTION 1.0 *
SECONDARY_HORIZONTAL_DATUM NAD27 *
XY_ORIGIN 592870.444 4643817.799 *
SECONDARY_XY_ORIGIN 592965.161 4643619.927 *
NATION US *
STATE CA *
NW_QUAD_CORNER_XY 593261.591 4643448.910 *
NE_QUAD_CORNER_XY 598442.869 4643518.799 *
SE_QUAD_CORNER_XY 598538.944 4636579.446 *
SW_QUAD_CORNER_XY 593352.608 4636509.574 *
SECONDARY_NW_QUAD_XY 593264.161 4643235.478 *
SECONDARY_NE_QUAD_XY 598445.582 4643305.369 *
SECONDARY_SE_QUAD_XY 598541.656 4636366.114 *
SECONDARY_SW_QUAD_XY 593355.177 4636296.239 *
RMSE_XY 1.82 *
IMAGE_SOURCE "BLACK AND WHITE FILM" *
SOURCE_IMAGE_ID "NAPP 10502 58" *
SOURCE_IMAGE_DATE 1998 8 17 *
SOURCE_IMAGE_ID "NAPP 10502 59" *
SOURCE_IMAGE_DATE 1998 8 17 *
SOURCE_IMAGE_ID "NAPP 10502 57" *
SOURCE_IMAGE_DATE 1998 8 17 *
SOURCE_IMAGE_ID "NAPP 10508 47" *
SOURCE_IMAGE_DATE 1998 9 13 *
SOURCE_IMAGE_ID "NAPP 10508 46" *
SOURCE_IMAGE_DATE 1998 9 13 *
SOURCE_IMAGE_ID "NAPP 10508 45" *
SOURCE_IMAGE_DATE 1998 9 13 *
SOURCE_IMAGE_ID "NAPP 10502 42" *
SOURCE_IMAGE_DATE 1998 8 17 *
SOURCE_IMAGE_ID "NAPP 10502 43" *
SOURCE_IMAGE_DATE 1998 8 17 *
SOURCE_IMAGE_ID "NAPP 10502 44" *
SOURCE_IMAGE_DATE 1998 8 17 *
SOURCE_DEM_DATE 1985 1 1 *
AGENCY "WESTERN MAPPING CENTER (WMC)" *
PRODUCER "USDA FS GEOSPATIAL SERVICE AND TECHNOLOGY CENTER" *
PRODUCTION_SYSTEM "ORBIT OR_RECTIFY V.5.2" *
STANDARD_VERSION 1996 12 *
METADATA_DATE 2001 5 15 *
DATA_FILE_SIZE 45500032 *
BYTE_COUNT 5968 * * * * * * * * * * * * * * * *
END_USGS_HEADER *
