BEGIN_USGS_DOQ_HEADER *
QUADRANGLE_NAME "DORRIS" *
QUADRANT NW *
WEST_LONGITUDE -122 0 0.000 *
EAST_LONGITUDE -121 56 15.000 *
NORTH_LATITUDE 42 0 0.000 *
SOUTH_LATITUDE 41 56 15.000 *
PRODUCTION_DATE 2001 5 14 *
RASTER_ORDER LEFT_RIGHT/TOP_BOTTOM *
BAND_ORGANIZATION "SINGLE FILE" *
BAND_CONTENT BLACK&WHITE *
BITS_PER_PIXEL 8 *
SAMPLES_AND_LINES 5953 7615 *
HORIZONTAL_DATUM NAD83 *
HORIZONTAL_COORDINATE_SYSTEM UTM *
COORDINATE_ZONE 10 *
HORIZONTAL_UNITS METERS *
HORIZONTAL_RESOLUTION 1.0 *
SECONDARY_HORIZONTAL_DATUM NAD27 *
XY_ORIGIN 582426.538 4650621.194 *
SECONDARY_XY_ORIGIN 582521.356 4650423.430 *
NATION US *
STATE CA *
NW_QUAD_CORNER_XY 582818.069 4650259.848 *
NE_QUAD_CORNER_XY 587994.260 4650322.194 *
SE_QUAD_CORNER_XY 588080.325 4643382.800 *
SW_QUAD_CORNER_XY 582899.070 4643320.468 *
SECONDARY_NW_QUAD_XY 582820.355 4650046.315 *
SECONDARY_NE_QUAD_XY 587996.689 4650108.664 *
SECONDARY_SE_QUAD_XY 588082.752 4643169.366 *
SECONDARY_SW_QUAD_XY 582901.354 4643107.033 *
RMSE_XY 1.82 *
IMAGE_SOURCE "BLACK AND WHITE FILM" *
SOURCE_IMAGE_ID "NAPP 10508 33" *
SOURCE_IMAGE_DATE 1998 9 13 *
SOURCE_IMAGE_ID "NAPP 10508 32" *
SOURCE_IMAGE_DATE 1998 9 13 *
SOURCE_IMAGE_ID "NAPP 10508 34" *
SOURCE_IMAGE_DATE 1998 9 13 *
SOURCE_IMAGE_ID "NAPP 10487 19" *
SOURCE_IMAGE_DATE 1998 8 27 *
SOURCE_IMAGE_ID "NAPP 10487 20" *
SOURCE_IMAGE_DATE 1998 8 27 *
SOURCE_IMAGE_ID "NAPP 10487 21" *
SOURCE_IMAGE_DATE 1998 8 27 *
SOURCE_IMAGE_ID "NAPP 10508 45" *
SOURCE_IMAGE_DATE 1998 9 13 *
SOURCE_IMAGE_ID "NAPP 10508 44" *
SOURCE_IMAGE_DATE 1998 9 13 *
SOURCE_IMAGE_ID "NAPP 10508 43" *
SOURCE_IMAGE_DATE 1998 9 13 *
SOURCE_DEM_DATE 1985 1 1 *
AGENCY "WESTERN MAPPING CENTER (WMC)" *
PRODUCER "USDA FS GEOSPATIAL SERVICE AND TECHNOLOGY CENTER" *
PRODUCTION_SYSTEM "ORBIT OR_RECTIFY V.5.2" *
STANDARD_VERSION 1996 12 *
METADATA_DATE 2001 5 15 *
DATA_FILE_SIZE 45338048 *
BYTE_COUNT 5953 * * * * * * * * * * * * * * * *
END_USGS_HEADER *
