BEGIN_USGS_DOQ_HEADER *
QUADRANGLE_NAME "TOMBSTONE MOUNTAIN" *
QUADRANT NW *
WEST_LONGITUDE -122 22 30.000 *
EAST_LONGITUDE -122 18 45.000 *
NORTH_LATITUDE 41 7 30.000 *
SOUTH_LATITUDE 41 3 45.000 *
PRODUCTION_DATE 2001 5 30 *
RASTER_ORDER LEFT_RIGHT/TOP_BOTTOM *
BAND_ORGANIZATION "SINGLE FILE" *
BAND_CONTENT BLACK&WHITE *
BITS_PER_PIXEL 8 *
SAMPLES_AND_LINES 5995 7593 *
HORIZONTAL_DATUM NAD83 *
HORIZONTAL_COORDINATE_SYSTEM UTM *
COORDINATE_ZONE 10 *
HORIZONTAL_UNITS METERS *
HORIZONTAL_RESOLUTION 1.0 *
SECONDARY_HORIZONTAL_DATUM NAD27 *
XY_ORIGIN 552070.475 4553160.627 *
SECONDARY_XY_ORIGIN 552166.090 4552963.263 *
NATION US *
STATE CA *
NW_QUAD_CORNER_XY 552464.169 4552821.603 *
NE_QUAD_CORNER_XY 557710.619 4552861.127 *
SE_QUAD_CORNER_XY 557765.343 4545922.852 *
SW_QUAD_CORNER_XY 552513.918 4545883.340 *
SECONDARY_NW_QUAD_XY 552465.589 4552609.493 *
SECONDARY_NE_QUAD_XY 557712.180 4552649.018 *
SECONDARY_SE_QUAD_XY 557766.904 4545710.851 *
SECONDARY_SW_QUAD_XY 552515.337 4545671.338 *
RMSE_XY 1.23 *
IMAGE_SOURCE "BLACK AND WHITE FILM" *
SOURCE_IMAGE_ID "NAPP 10482 34" *
SOURCE_IMAGE_DATE 1998 8 14 *
SOURCE_IMAGE_ID "NAPP 10482 33" *
SOURCE_IMAGE_DATE 1998 8 14 *
SOURCE_IMAGE_ID "NAPP 10482 35" *
SOURCE_IMAGE_DATE 1998 8 14 *
SOURCE_IMAGE_ID "NAPP 10486 80" *
SOURCE_IMAGE_DATE 1998 8 24 *
SOURCE_IMAGE_ID "NAPP 10486 81" *
SOURCE_IMAGE_DATE 1998 8 24 *
SOURCE_IMAGE_ID "NAPP 10481 235" *
SOURCE_IMAGE_DATE 1998 8 14 *
SOURCE_IMAGE_ID "NAPP 10481 236" *
SOURCE_IMAGE_DATE 1998 8 14 *
SOURCE_IMAGE_ID "NAPP 10481 237" *
SOURCE_IMAGE_DATE 1998 8 14 *
SOURCE_DEM_DATE 2000 0 0 *
AGENCY "WESTERN MAPPING CENTER (WMC)" *
PRODUCER "USDA FS GEOSPATIAL SERVICE AND TECHNOLOGY CENTER" *
PRODUCTION_SYSTEM "ORBIT OR_RECTIFY V.5.2" *
STANDARD_VERSION 1996 12 *
METADATA_DATE 2001 6 4 *
DATA_FILE_SIZE 45526030 *
BYTE_COUNT 5995 * * * * * * * * * * * * * * * * * *
END_USGS_HEADER *
