BEGIN_USGS_DOQ_HEADER *
QUADRANGLE_NAME "CARRVILLE" *
QUADRANT SW *
WEST_LONGITUDE -122 45 0.000 *
EAST_LONGITUDE -122 41 15.000 *
NORTH_LATITUDE 41 3 45.000 *
SOUTH_LATITUDE 41 0 0.000 *
PRODUCTION_DATE 2001 5 8 *
RASTER_ORDER LEFT_RIGHT/TOP_BOTTOM *
BAND_ORGANIZATION "SINGLE FILE" *
BAND_CONTENT BLACK&WHITE *
BITS_PER_PIXEL 8 *
SAMPLES_AND_LINES 5972 7570 *
HORIZONTAL_DATUM NAD83 *
HORIZONTAL_COORDINATE_SYSTEM UTM *
COORDINATE_ZONE 10 *
HORIZONTAL_UNITS METERS *
HORIZONTAL_RESOLUTION 1.0 *
SECONDARY_HORIZONTAL_DATUM NAD27 *
XY_ORIGIN 520610.183 4546042.228 *
SECONDARY_XY_ORIGIN 520706.091 4545845.222 *
NATION US *
STATE CA *
NW_QUAD_CORNER_XY 521005.519 4545725.295 *
NE_QUAD_CORNER_XY 526256.905 4545742.228 *
SE_QUAD_CORNER_XY 526281.747 4538804.083 *
SW_QUAD_CORNER_XY 521025.392 4538787.156 *
SECONDARY_NW_QUAD_XY 521006.088 4545513.290 *
SECONDARY_NE_QUAD_XY 526257.615 4545530.223 *
SECONDARY_SE_QUAD_XY 526282.457 4538592.187 *
SECONDARY_SW_QUAD_XY 521025.962 4538575.258 *
RMSE_XY 1.95 *
IMAGE_SOURCE "BLACK AND WHITE FILM" *
SOURCE_IMAGE_ID "NAPP 10485 78" *
SOURCE_IMAGE_DATE 1998 8 24 *
SOURCE_IMAGE_ID "NAPP 10485 79" *
SOURCE_IMAGE_DATE 1998 8 24 *
SOURCE_IMAGE_ID "NAPP 10485 77" *
SOURCE_IMAGE_DATE 1998 8 24 *
SOURCE_IMAGE_ID "NAPP 10486 131" *
SOURCE_IMAGE_DATE 1998 8 24 *
SOURCE_IMAGE_ID "NAPP 10486 130" *
SOURCE_IMAGE_DATE 1998 8 24 *
SOURCE_IMAGE_ID "NAPP 10486 129" *
SOURCE_IMAGE_DATE 1998 8 24 *
SOURCE_IMAGE_ID "NAPP 10485 112" *
SOURCE_IMAGE_DATE 1998 8 24 *
SOURCE_IMAGE_ID "NAPP 10485 113" *
SOURCE_IMAGE_DATE 1998 8 24 *
SOURCE_IMAGE_ID "NAPP 10485 114" *
SOURCE_IMAGE_DATE 1998 8 24 *
SOURCE_DEM_DATE 2000 0 0 *
AGENCY "WESTERN MAPPING CENTER (WMC)" *
PRODUCER "USDA FS GEOSPATIAL SERVICE AND TECHNOLOGY CENTER" *
PRODUCTION_SYSTEM "ORBIT OR_RECTIFY V.5.2" *
STANDARD_VERSION 1996 12 *
METADATA_DATE 2001 5 16 *
DATA_FILE_SIZE 45214012 *
BYTE_COUNT 5972 * * * * * * * * * * * * * * * *
END_USGS_HEADER *
