BEGIN_USGS_DOQ_HEADER *
QUADRANGLE_NAME "CARIBOU LAKE" *
QUADRANT SE *
WEST_LONGITUDE -122 56 15.000 *
EAST_LONGITUDE -122 52 30.000 *
NORTH_LATITUDE 41 3 45.000 *
SOUTH_LATITUDE 41 0 0.000 *
PRODUCTION_DATE 2001 7 26 *
RASTER_ORDER LEFT_RIGHT/TOP_BOTTOM *
BAND_ORGANIZATION "SINGLE FILE" *
BAND_CONTENT BLACK&WHITE *
BITS_PER_PIXEL 8 *
SAMPLES_AND_LINES 5957 7559 *
HORIZONTAL_DATUM NAD83 *
HORIZONTAL_COORDINATE_SYSTEM UTM *
COORDINATE_ZONE 10 *
HORIZONTAL_UNITS METERS *
HORIZONTAL_RESOLUTION 1.0 *
SECONDARY_HORIZONTAL_DATUM NAD27 *
XY_ORIGIN 504855.377 4546002.718 *
SECONDARY_XY_ORIGIN 504951.526 4545805.864 *
NATION US *
STATE CA *
NW_QUAD_CORNER_XY 505251.377 4545697.074 *
NE_QUAD_CORNER_XY 510502.756 4545702.718 *
SE_QUAD_CORNER_XY 510512.693 4538764.585 *
SW_QUAD_CORNER_XY 505256.346 4538758.943 *
SECONDARY_NW_QUAD_XY 505251.523 4545485.067 *
SECONDARY_NE_QUAD_XY 510503.043 4545490.712 *
SECONDARY_SE_QUAD_XY 510512.979 4538552.688 *
SECONDARY_SW_QUAD_XY 505256.491 4538547.045 *
RMSE_XY 1.07 *
IMAGE_SOURCE "BLACK AND WHITE FILM" *
SOURCE_IMAGE_ID "NAPP 10485 7" *
SOURCE_IMAGE_DATE 1998 8 24 *
SOURCE_IMAGE_ID "NAPP 10485 6" *
SOURCE_IMAGE_DATE 1998 8 24 *
SOURCE_IMAGE_ID "NAPP 10485 8" *
SOURCE_IMAGE_DATE 1998 8 24 *
SOURCE_IMAGE_ID "NAPP 10486 43" *
SOURCE_IMAGE_DATE 1998 8 24 *
SOURCE_IMAGE_ID "NAPP 10486 42" *
SOURCE_IMAGE_DATE 1998 8 24 *
SOURCE_IMAGE_ID "NAPP 10486 41" *
SOURCE_IMAGE_DATE 1998 8 24 *
SOURCE_DEM_DATE 2000 0 0 *
AGENCY "WESTERN MAPPING CENTER (WMC)" *
PRODUCER "USDA FS GEOSPATIAL SERVICE AND TECHNOLOGY CENTER" *
PRODUCTION_SYSTEM "ORBIT OR_RECTIFY V.5.2" *
STANDARD_VERSION 1996 12 *
METADATA_DATE 2001 7 27 *
DATA_FILE_SIZE 45034920 *
BYTE_COUNT 5957 * * * * * * * * * * * * * * * * * * * * * *
END_USGS_HEADER *
