BEGIN_USGS_DOQ_HEADER *
QUADRANGLE_NAME "GIRARD RIDGE" 3.45 or 7.5-min. name*
QUADRANT NW quadrant indicator if cell size = 3.75-minutes*
WEST_LONGITUDE -122 15 0.000 signed deg min sec SDDD MM SS.SSS*
EAST_LONGITUDE -122 11 15.000 signed deg min sec SDDD MM SS.SSS*
NORTH_LATITUDE 41 15 0.000 signed deg min sec SDDD MM SS.SSS*
SOUTH_LATITUDE 41 11 15.000 signed deg min sec SDDD MM SS.SSS*
PRODUCTION_DATE 1996 12 16 yyyy mm dd*
RASTER_ORDER LEFT_RIGHT/TOP_BOTTOM video display order*
BAND_ORGANIZATION "SINGLE FILE" single file or BSQ, or BIL or BIP*
BAND_CONTENT BLACK&WHITE black&white or red green blue*
BITS_PER_PIXEL 8 radiometric resolution*
SAMPLES_AND_LINES 5998 7603 number of columns and rows*
HORIZONTAL_DATUM NAD83 primary horizontal datum*
HORIZONTAL_COORDINATE_SYSTEM UTM *
COORDINATE_ZONE 10 coordinate system zone number*
HORIZONTAL_UNITS METERS coordinate system units*
HORIZONTAL_RESOLUTION 1.00 pixel horiz. ground sample distance*
SECONDARY_HORIZONTAL_DATUM NAD27 secondary horizontal datum*
XY_ORIGIN 562442.000 4567129.000 coord. of upper left pixel pri. datum*
SECONDARY_XY_ORIGIN 562537.332 4566931.217 coord upper left pixel sec datum*
NATION US nation code*
STATE CA state fip code*
NW_QUAD_CORNER_XY 562837.452 4566781.215 XY coords. of pri. NW quad corner*
NE_QUAD_CORNER_XY 568073.951 4566828.296 XY coords. of pri. NE quad corner*
SE_QUAD_CORNER_XY 568138.790 4559889.846 XY coords. of pri. SE quad corner*
SW_QUAD_CORNER_XY 562897.303 4559842.778 XY coords. of pri. SW quad corner*
SECONDARY_NW_QUAD_XY 562839.153 4566568.890 XY coords. - sec. NW quad cor.*
SECONDARY_NE_QUAD_XY 568075.794 4566615.973 XY coords. - sec. NE quad cor.*
SECONDARY_SE_QUAD_XY 568140.632 4559677.629 XY coords. - sec. SE quad cor.*
SECONDARY_SW_QUAD_XY 562899.003 4559630.560 XY coords. - sec. SW quad cor.*
RMSE_XY 4.10 doq horiz. accuracy*
IMAGE_SOURCE "BLACK AND WHITE FILM" b&w, cir, natural color, other*
SOURCE_IMAGE_ID "NAPP 6244 177" source image id*
SOURCE_IMAGE_DATE 1993 6 11 source image date as yyyy mm dd*
SOURCE_DEM_DATE 1996 12 16 source dem date yyyy mm dd*
AGENCY "WESTERN MAPPING CENTER (WMC)" oversight agency*
PRODUCER "Science Applications International" producer/contractor*
PRODUCTION_SYSTEM "GIS/MAGIC" production system*
STANDARD_VERSION 1996 12 version of DOQ standard*
METADATA_DATE 1997 10 28 date created or changed, yyyy mm dd*
DATA_FILE_SIZE 45608792 data set size in bytes*
BYTE_COUNT 5998 header byte count* * * * * * * * * * * * * * * * * * * * * * * * * * * * * * * *
END_USGS_HEADER *
