BEGIN_USGS_DOQ_HEADER *
QUADRANGLE_NAME "GIRARD RIDGE" 3.45 or 7.5-min. name*
QUADRANT SE quadrant indicator if cell size = 3.75-minutes*
WEST_LONGITUDE -122 11 15.000 signed deg min sec SDDD MM SS.SSS*
EAST_LONGITUDE -122 7 30.000 signed deg min sec SDDD MM SS.SSS*
NORTH_LATITUDE 41 11 15.000 signed deg min sec SDDD MM SS.SSS*
SOUTH_LATITUDE 41 7 30.000 signed deg min sec SDDD MM SS.SSS*
PRODUCTION_DATE 1997 4 30 yyyy mm dd*
RASTER_ORDER LEFT_RIGHT/TOP_BOTTOM video display order*
BAND_ORGANIZATION "SINGLE FILE" single file or BSQ, or BIL or BIP*
BAND_CONTENT BLACK&WHITE black&white or red green blue*
BITS_PER_PIXEL 8 radiometric resolution*
SAMPLES_AND_LINES 6008 7607 number of columns and rows*
HORIZONTAL_DATUM NAD83 primary horizontal datum*
HORIZONTAL_COORDINATE_SYSTEM UTM *
COORDINATE_ZONE 10 coordinate system zone number*
HORIZONTAL_UNITS METERS coordinate system units*
HORIZONTAL_RESOLUTION 1.00 pixel horiz. ground sample distance*
SECONDARY_HORIZONTAL_DATUM NAD27 secondary horizontal datum*
XY_ORIGIN 567744.000 4560241.000 coord. of upper left pixel pri. datum*
SECONDARY_XY_ORIGIN 567839.357 4560043.298 coord upper left pixel sec datum*
NATION US nation code*
STATE CA state fip code*
NW_QUAD_CORNER_XY 568138.790 4559889.846 XY coords. of pri. NW quad corner*
NE_QUAD_CORNER_XY 573380.288 4559940.679 XY coords. of pri. NE quad corner*
SE_QUAD_CORNER_XY 573450.028 4553002.288 XY coords. of pri. SE quad corner*
SW_QUAD_CORNER_XY 568203.548 4552951.469 XY coords. of pri. SW quad corner*
SECONDARY_NW_QUAD_XY 568140.632 4559677.629 XY coords. - sec. NW quad cor.*
SECONDARY_NE_QUAD_XY 573382.272 4559728.464 XY coords. - sec. NE quad cor.*
SECONDARY_SE_QUAD_XY 573452.011 4552790.180 XY coords. - sec. SE quad cor.*
SECONDARY_SW_QUAD_XY 568205.389 4552739.360 XY coords. - sec. SW quad cor.*
RMSE_XY 6.00 doq horiz. accuracy*
IMAGE_SOURCE "BLACK AND WHITE FILM" b&w, cir, natural color, other*
SOURCE_IMAGE_ID "NAPP 6244 182" source image id*
SOURCE_IMAGE_DATE 1993 6 11 source image date as yyyy mm dd*
IMAGE_SOURCE "BLACK AND WHITE FILM" b&w, cir, natural color, other*
SOURCE_IMAGE_ID "NAPP 6244 175" source image id*
SOURCE_IMAGE_DATE 1993 6 11 source image date as yyyy mm dd*
SOURCE_DEM_DATE 1997 4 30 source dem date yyyy mm dd*
AGENCY "WESTERN MAPPING CENTER (WMC)" oversight agency*
PRODUCER "Science Applications International" producer/contractor*
PRODUCTION_SYSTEM "GIS/MAGIC" production system*
STANDARD_VERSION 1996 12 version of DOQ standard*
METADATA_DATE 1997 10 28 date created or changed, yyyy mm dd*
DATA_FILE_SIZE 45708864 data set size in bytes*
BYTE_COUNT 6008 header byte count* * * * * * * * * * * * * * * * * * * * * * * * * * * * * *
END_USGS_HEADER *
