BEGIN_USGS_DOQ_HEADER *
QUADRANGLE_NAME "TANGLE BLUE LAKE" 3.45 or 7.5-min. name*
QUADRANT SE quadrant indicator if cell size = 3.75-minutes*
WEST_LONGITUDE -122 41 15.000 signed deg min sec SDDD MM SS.SSS*
EAST_LONGITUDE -122 37 30.000 signed deg min sec SDDD MM SS.SSS*
NORTH_LATITUDE 41 11 15.000 signed deg min sec SDDD MM SS.SSS*
SOUTH_LATITUDE 41 7 30.000 signed deg min sec SDDD MM SS.SSS*
PRODUCTION_DATE 1996 3 4 yyyy mm dd*
RASTER_ORDER LEFT_RIGHT/TOP_BOTTOM video display order*
BAND_ORGANIZATION "SINGLE FILE" single file or BSQ, or BIL or BIP*
BAND_CONTENT BLACK&WHITE black&white or red green blue*
BITS_PER_PIXEL 8 radiometric resolution*
SAMPLES_AND_LINES 5976 7583 number of columns and rows*
HORIZONTAL_DATUM NAD83 primary horizontal datum*
HORIZONTAL_COORDINATE_SYSTEM UTM *
COORDINATE_ZONE 10 coordinate system zone number*
HORIZONTAL_UNITS METERS coordinate system units*
HORIZONTAL_RESOLUTION 1.00 pixel horiz. ground sample distance*
SECONDARY_HORIZONTAL_DATUM NAD27 secondary horizontal datum*
XY_ORIGIN 525807.500 4559943.500 coord. of upper left pixel pri. datum*
SECONDARY_XY_ORIGIN 525903.299 4559746.171 coord upper left pixel sec datum*
NATION US nation code*
STATE CA state fip code*
NW_QUAD_CORNER_XY 526207.126 4559618.745 XY coords. of pri. NW quad corner*
NE_QUAD_CORNER_XY 531448.561 4559639.453 XY coords. of pri. NE quad corner*
SE_QUAD_CORNER_XY 531478.447 4552701.151 XY coords. of pri. SE quad corner*
SW_QUAD_CORNER_XY 526232.031 4552680.449 XY coords. of pri. SW quad corner*
SECONDARY_NW_QUAD_XY 526207.835 4559406.521 XY coords. - sec. NW quad cor.*
SECONDARY_NE_QUAD_XY 531449.411 4559427.230 XY coords. - sec. NE quad cor.*
SECONDARY_SE_QUAD_XY 531479.296 4552489.035 XY coords. - sec. SE quad cor.*
SECONDARY_SW_QUAD_XY 526232.739 4552468.332 XY coords. - sec. SW quad cor.*
RMSE_XY 1.50 doq horiz. accuracy*
IMAGE_SOURCE "BLACK AND WHITE FILM" b&w, cir, natural color, other*
SOURCE_IMAGE_ID "PAPP 5255 555" source image id*
SOURCE_IMAGE_DATE 1993 8 26 source image date as yyyy mm dd*
IMAGE_SOURCE "BLACK AND WHITE FILM" b&w, cir, natural color, other*
SOURCE_IMAGE_ID "PAPP 5255 454" source image id*
SOURCE_IMAGE_DATE 1993 8 26 source image date as yyyy mm dd*
IMAGE_SOURCE "BLACK AND WHITE FILM" b&w, cir, natural color, other*
SOURCE_IMAGE_ID "PAPP 5255 656" source image id*
SOURCE_IMAGE_DATE 1993 8 26 source image date as yyyy mm dd*
SOURCE_DEM_DATE 1996 3 4 source dem date yyyy mm dd*
AGENCY "WESTERN MAPPING CENTER (WMC)" oversight agency*
PRODUCER "Woolpert Consultants" producer/contractor*
PRODUCTION_SYSTEM "INTERGRAPH ISPM,ISIR" production system*
STANDARD_VERSION 1996 12 version of DOQ standard*
METADATA_DATE 1997 5 26 date created or changed, yyyy mm dd*
DATA_FILE_SIZE 45321984 data set size in bytes*
BYTE_COUNT 5976 header byte count* * * * * * * * * * * * * * * * * * * * * * * * * *
END_USGS_HEADER *
