BEGIN_USGS_DOQ_HEADER *
QUADRANGLE_NAME "BILLYS PEAK" *
QUADRANT SE *
WEST_LONGITUDE -122 48 45.000 *
EAST_LONGITUDE -122 45 0.000 *
NORTH_LATITUDE 41 11 15.000 *
SOUTH_LATITUDE 41 7 30.000 *
PRODUCTION_DATE 2001 5 8 *
RASTER_ORDER LEFT_RIGHT/TOP_BOTTOM *
BAND_ORGANIZATION "SINGLE FILE" *
BAND_CONTENT BLACK&WHITE *
BITS_PER_PIXEL 8 *
SAMPLES_AND_LINES 5957 7566 *
HORIZONTAL_DATUM NAD83 *
HORIZONTAL_COORDINATE_SYSTEM UTM *
COORDINATE_ZONE 10 *
HORIZONTAL_UNITS METERS *
HORIZONTAL_RESOLUTION 1.0 *
SECONDARY_HORIZONTAL_DATUM NAD27 *
XY_ORIGIN 515329.271 4559901.801 *
SECONDARY_XY_ORIGIN 515425.201 4559704.579 *
NATION US *
STATE CA *
NW_QUAD_CORNER_XY 515724.269 4559588.623 *
NE_QUAD_CORNER_XY 520965.696 4559601.801 *
SE_QUAD_CORNER_XY 520985.620 4552663.511 *
SW_QUAD_CORNER_XY 515739.212 4552650.337 *
SECONDARY_NW_QUAD_XY 515724.698 4559376.402 *
SECONDARY_NE_QUAD_XY 520966.266 4559389.580 *
SECONDARY_SE_QUAD_XY 520986.190 4552451.397 *
SECONDARY_SW_QUAD_XY 515739.640 4552438.222 *
RMSE_XY 1.95 *
IMAGE_SOURCE "BLACK AND WHITE FILM" *
SOURCE_IMAGE_ID "NAPP 10485 214" *
SOURCE_IMAGE_DATE 1998 8 24 *
SOURCE_IMAGE_ID "NAPP 10486 127" *
SOURCE_IMAGE_DATE 1998 8 24 *
SOURCE_IMAGE_ID "NAPP 10485 213" *
SOURCE_IMAGE_DATE 1998 8 24 *
SOURCE_IMAGE_ID "NAPP 10492 35" *
SOURCE_IMAGE_DATE 1998 9 20 *
SOURCE_IMAGE_ID "NAPP 10486 61" *
SOURCE_IMAGE_DATE 1998 8 24 *
SOURCE_IMAGE_ID "NAPP 10486 62" *
SOURCE_IMAGE_DATE 1998 8 24 *
SOURCE_IMAGE_ID "NAPP 10485 75" *
SOURCE_IMAGE_DATE 1998 8 24 *
SOURCE_IMAGE_ID "NAPP 10485 74" *
SOURCE_IMAGE_DATE 1998 8 24 *
SOURCE_IMAGE_ID "NAPP 10485 73" *
SOURCE_IMAGE_DATE 1998 8 24 *
SOURCE_DEM_DATE 2000 0 0 *
AGENCY "WESTERN MAPPING CENTER (WMC)" *
PRODUCER "USDA FS GEOSPATIAL SERVICE AND TECHNOLOGY CENTER" *
PRODUCTION_SYSTEM "ORBIT OR_RECTIFY V.5.2" *
STANDARD_VERSION 1996 12 *
METADATA_DATE 2001 5 16 *
DATA_FILE_SIZE 45076619 *
BYTE_COUNT 5957 * * * * * * * * * * * * * * * *
END_USGS_HEADER *
