BEGIN_USGS_DOQ_HEADER *
QUADRANGLE_NAME "DEADMAN PEAK" *
QUADRANT SE *
WEST_LONGITUDE -122 56 15.000 *
EAST_LONGITUDE -122 52 30.000 *
NORTH_LATITUDE 41 11 15.000 *
SOUTH_LATITUDE 41 7 30.000 *
PRODUCTION_DATE 2001 7 26 *
RASTER_ORDER LEFT_RIGHT/TOP_BOTTOM *
BAND_ORGANIZATION "SINGLE FILE" *
BAND_CONTENT BLACK&WHITE *
BITS_PER_PIXEL 8 *
SAMPLES_AND_LINES 5947 7559 *
HORIZONTAL_DATUM NAD83 *
HORIZONTAL_COORDINATE_SYSTEM UTM *
COORDINATE_ZONE 10 *
HORIZONTAL_UNITS METERS *
HORIZONTAL_RESOLUTION 1.0 *
SECONDARY_HORIZONTAL_DATUM NAD27 *
XY_ORIGIN 504845.469 4559879.211 *
SECONDARY_XY_ORIGIN 504941.571 4559682.138 *
NATION US *
STATE CA *
NW_QUAD_CORNER_XY 505241.422 4559573.563 *
NE_QUAD_CORNER_XY 510482.845 4559579.211 *
SE_QUAD_CORNER_XY 510492.806 4552640.927 *
SW_QUAD_CORNER_XY 505246.403 4552635.281 *
SECONDARY_NW_QUAD_XY 505241.567 4559361.341 *
SECONDARY_NE_QUAD_XY 510483.132 4559366.988 *
SECONDARY_SE_QUAD_XY 510493.093 4552428.812 *
SECONDARY_SW_QUAD_XY 505246.548 4552423.166 *
RMSE_XY 1.07 *
IMAGE_SOURCE "BLACK AND WHITE FILM" *
SOURCE_IMAGE_ID "NAPP 10485 11" *
SOURCE_IMAGE_DATE 1998 8 24 *
SOURCE_IMAGE_ID "NAPP 10485 10" *
SOURCE_IMAGE_DATE 1998 8 24 *
SOURCE_IMAGE_ID "NAPP 10485 12" *
SOURCE_IMAGE_DATE 1998 8 24 *
SOURCE_IMAGE_ID "NAPP 10486 39" *
SOURCE_IMAGE_DATE 1998 8 24 *
SOURCE_IMAGE_ID "NAPP 10486 38" *
SOURCE_IMAGE_DATE 1998 8 24 *
SOURCE_IMAGE_ID "NAPP 10486 37" *
SOURCE_IMAGE_DATE 1998 8 24 *
SOURCE_DEM_DATE 2000 0 0 *
AGENCY "WESTERN MAPPING CENTER (WMC)" *
PRODUCER "USDA FS GEOSPATIAL SERVICE AND TECHNOLOGY CENTER" *
PRODUCTION_SYSTEM "ORBIT OR_RECTIFY V.5.2" *
STANDARD_VERSION 1996 12 *
METADATA_DATE 2001 7 27 *
DATA_FILE_SIZE 44959320 *
BYTE_COUNT 5947 * * * * * * * * * * * * * * * * * * * * * *
END_USGS_HEADER *
