BEGIN_USGS_DOQ_HEADER *
QUADRANGLE_NAME "ELK SPRING" *
QUADRANT NE *
WEST_LONGITUDE -122 3 45.000 *
EAST_LONGITUDE -122 0 0.000 *
NORTH_LATITUDE 41 22 30.000 *
SOUTH_LATITUDE 41 18 45.000 *
PRODUCTION_DATE 2001 4 24 *
RASTER_ORDER LEFT_RIGHT/TOP_BOTTOM *
BAND_ORGANIZATION "SINGLE FILE" *
BAND_CONTENT BLACK&WHITE *
BITS_PER_PIXEL 8 *
SAMPLES_AND_LINES 6000 7611 *
HORIZONTAL_DATUM NAD83 *
HORIZONTAL_COORDINATE_SYSTEM UTM *
COORDINATE_ZONE 10 *
HORIZONTAL_UNITS METERS *
HORIZONTAL_RESOLUTION 1.0 *
SECONDARY_HORIZONTAL_DATUM NAD27 *
XY_ORIGIN 578003.942 4581168.861 *
SECONDARY_XY_ORIGIN 578099.203 4580970.862 *
NATION US *
STATE CA *
NW_QUAD_CORNER_XY 578397.069 4580810.944 *
NE_QUAD_CORNER_XY 583623.606 4580869.361 *
SE_QUAD_CORNER_XY 583703.611 4573930.716 *
SW_QUAD_CORNER_XY 578472.072 4573872.316 *
SECONDARY_NW_QUAD_XY 578399.200 4580598.415 *
SECONDARY_NE_QUAD_XY 583625.879 4580656.833 *
SECONDARY_SE_QUAD_XY 583705.884 4573718.293 *
SECONDARY_SW_QUAD_XY 578474.203 4573659.892 *
RMSE_XY 1.58 *
IMAGE_SOURCE "BLACK AND WHITE FILM" *
SOURCE_IMAGE_ID "NAPP 10486 194" *
SOURCE_IMAGE_DATE 1998 8 25 *
SOURCE_IMAGE_ID "NAPP 10486 193" *
SOURCE_IMAGE_DATE 1998 8 25 *
SOURCE_IMAGE_ID "NAPP 10487 1" *
SOURCE_IMAGE_DATE 1998 8 27 *
SOURCE_IMAGE_ID "NAPP 10487 52" *
SOURCE_IMAGE_DATE 1998 8 27 *
SOURCE_IMAGE_ID "NAPP 10487 51" *
SOURCE_IMAGE_DATE 1998 8 27 *
SOURCE_IMAGE_ID "NAPP 10487 50" *
SOURCE_IMAGE_DATE 1998 8 27 *
SOURCE_IMAGE_ID "NAPP 10508 12" *
SOURCE_IMAGE_DATE 1998 9 13 *
SOURCE_IMAGE_ID "NAPP 10508 13" *
SOURCE_IMAGE_DATE 1998 9 13 *
SOURCE_IMAGE_ID "NAPP 10508 14" *
SOURCE_IMAGE_DATE 1998 9 13 *
SOURCE_DEM_DATE 2000 0 0 *
AGENCY "WESTERN MAPPING CENTER (WMC)" *
PRODUCER "USDA FS GEOSPATIAL SERVICE AND TECHNOLOGY CENTER" *
PRODUCTION_SYSTEM "ORBIT OR_RECTIFY V.5.2" *
STANDARD_VERSION 1996 12 *
METADATA_DATE 2001 5 16 *
DATA_FILE_SIZE 45672000 *
BYTE_COUNT 6000 * * * * * * * * * * * * * * * *
END_USGS_HEADER *
