BEGIN_USGS_DOQ_HEADER *
QUADRANGLE_NAME "MCCLOUD" *
QUADRANT SE *
WEST_LONGITUDE -122 11 15.000 *
EAST_LONGITUDE -122 7 30.000 *
NORTH_LATITUDE 41 18 45.000 *
SOUTH_LATITUDE 41 15 0.000 *
PRODUCTION_DATE 2001 4 24 *
RASTER_ORDER LEFT_RIGHT/TOP_BOTTOM *
BAND_ORGANIZATION "SINGLE FILE" *
BAND_CONTENT BLACK&WHITE *
BITS_PER_PIXEL 8 *
SAMPLES_AND_LINES 5995 7604 *
HORIZONTAL_DATUM NAD83 *
HORIZONTAL_COORDINATE_SYSTEM UTM *
COORDINATE_ZONE 10 *
HORIZONTAL_UNITS METERS *
HORIZONTAL_RESOLUTION 1.0 *
SECONDARY_HORIZONTAL_DATUM NAD27 *
XY_ORIGIN 567616.071 4574117.684 *
SECONDARY_XY_ORIGIN 567711.380 4573919.803 *
NATION US *
STATE CA *
NW_QUAD_CORNER_XY 568009.031 4573766.821 *
NE_QUAD_CORNER_XY 573240.546 4573817.684 *
SE_QUAD_CORNER_XY 573310.461 4566879.145 *
SW_QUAD_CORNER_XY 568073.951 4566828.296 *
SECONDARY_NW_QUAD_XY 568010.878 4573554.394 *
SECONDARY_NE_QUAD_XY 573242.535 4573605.259 *
SECONDARY_SE_QUAD_XY 573312.449 4566666.826 *
SECONDARY_SW_QUAD_XY 568075.797 4566615.976 *
RMSE_XY 1.58 *
IMAGE_SOURCE "BLACK AND WHITE FILM" *
SOURCE_IMAGE_ID "NAPP 10494 78" *
SOURCE_IMAGE_DATE 1999 7 29 *
SOURCE_IMAGE_ID "NAPP 10494 79" *
SOURCE_IMAGE_DATE 1999 7 29 *
SOURCE_IMAGE_ID "NAPP 10494 77" *
SOURCE_IMAGE_DATE 1999 7 29 *
SOURCE_IMAGE_ID "NAPP 10487 167" *
SOURCE_IMAGE_DATE 1998 8 27 *
SOURCE_IMAGE_ID "NAPP 10487 166" *
SOURCE_IMAGE_DATE 1998 8 27 *
SOURCE_IMAGE_ID "NAPP 10487 165" *
SOURCE_IMAGE_DATE 1998 8 27 *
SOURCE_IMAGE_ID "NAPP 10487 54" *
SOURCE_IMAGE_DATE 1998 8 27 *
SOURCE_IMAGE_ID "NAPP 10487 53" *
SOURCE_IMAGE_DATE 1998 8 27 *
SOURCE_IMAGE_ID "NAPP 10487 52" *
SOURCE_IMAGE_DATE 1998 8 27 *
SOURCE_DEM_DATE 2000 0 0 *
AGENCY "WESTERN MAPPING CENTER (WMC)" *
PRODUCER "USDA FS GEOSPATIAL SERVICE AND TECHNOLOGY CENTER" *
PRODUCTION_SYSTEM "ORBIT OR_RECTIFY V.5.2" *
STANDARD_VERSION 1996 12 *
METADATA_DATE 2001 5 16 *
DATA_FILE_SIZE 45591975 *
BYTE_COUNT 5995 * * * * * * * * * * * * * * * *
END_USGS_HEADER *
