BEGIN_USGS_DOQ_HEADER *
QUADRANGLE_NAME "CITY OF MOUNT SHASTA" *
QUADRANT NE *
WEST_LONGITUDE -122 18 45.000 *
EAST_LONGITUDE -122 15 0.000 *
NORTH_LATITUDE 41 22 30.000 *
SOUTH_LATITUDE 41 18 45.000 *
PRODUCTION_DATE 2001 5 9 *
RASTER_ORDER LEFT_RIGHT/TOP_BOTTOM *
BAND_ORGANIZATION "SINGLE FILE" *
BAND_CONTENT BLACK&WHITE *
BITS_PER_PIXEL 8 *
SAMPLES_AND_LINES 5980 7597 *
HORIZONTAL_DATUM NAD83 *
HORIZONTAL_COORDINATE_SYSTEM UTM *
COORDINATE_ZONE 10 *
HORIZONTAL_UNITS METERS *
HORIZONTAL_RESOLUTION 1.0 *
SECONDARY_HORIZONTAL_DATUM NAD27 *
XY_ORIGIN 557097.194 4580957.811 *
SECONDARY_XY_ORIGIN 557192.599 4580760.019 *
NATION US *
STATE CA *
NW_QUAD_CORNER_XY 557491.032 4580614.972 *
NE_QUAD_CORNER_XY 562717.526 4580658.311 *
SE_QUAD_CORNER_XY 562777.526 4573719.726 *
SW_QUAD_CORNER_XY 557546.032 4573676.399 *
SECONDARY_NW_QUAD_XY 557492.596 4580402.438 *
SECONDARY_NE_QUAD_XY 562719.232 4580445.778 *
SECONDARY_SE_QUAD_XY 562779.232 4573507.298 *
SECONDARY_SW_QUAD_XY 557547.595 4573463.970 *
RMSE_XY 1.51 *
IMAGE_SOURCE "BLACK AND WHITE FILM" *
SOURCE_IMAGE_ID "NAPP 10481 244" *
SOURCE_IMAGE_DATE 1998 8 14 *
SOURCE_IMAGE_ID "NAPP 10481 243" *
SOURCE_IMAGE_DATE 1998 8 14 *
SOURCE_IMAGE_ID "NAPP 10486 197" *
SOURCE_IMAGE_DATE 1998 8 25 *
SOURCE_IMAGE_ID "NAPP 10482 41" *
SOURCE_IMAGE_DATE 1998 8 14 *
SOURCE_IMAGE_ID "NAPP 10482 42" *
SOURCE_IMAGE_DATE 1998 8 14 *
SOURCE_IMAGE_ID "NAPP 10482 43" *
SOURCE_IMAGE_DATE 1998 8 14 *
SOURCE_IMAGE_ID "NAPP 10487 165" *
SOURCE_IMAGE_DATE 1998 8 27 *
SOURCE_IMAGE_ID "NAPP 10487 164" *
SOURCE_IMAGE_DATE 1998 8 27 *
SOURCE_IMAGE_ID "NAPP 10487 177" *
SOURCE_IMAGE_DATE 1998 8 27 *
SOURCE_DEM_DATE 2000 0 0 *
AGENCY "WESTERN MAPPING CENTER (WMC)" *
PRODUCER "USDA FS GEOSPATIAL SERVICE AND TECHNOLOGY CENTER" *
PRODUCTION_SYSTEM "ORBIT OR_RECTIFY V.5.2" *
STANDARD_VERSION 1996 12 *
METADATA_DATE 2001 5 16 *
DATA_FILE_SIZE 45436040 *
BYTE_COUNT 5980 * * * * * * * * * * * * * * * *
END_USGS_HEADER *
