BEGIN_USGS_DOQ_HEADER *
QUADRANGLE_NAME "SOUTH CHINA MOUNTAIN" *
QUADRANT SE *
WEST_LONGITUDE -122 33 45.000 *
EAST_LONGITUDE -122 30 0.000 *
NORTH_LATITUDE 41 18 45.000 *
SOUTH_LATITUDE 41 15 0.000 *
PRODUCTION_DATE 2001 5 9 *
RASTER_ORDER LEFT_RIGHT/TOP_BOTTOM *
BAND_ORGANIZATION "SINGLE FILE" *
BAND_CONTENT BLACK&WHITE *
BITS_PER_PIXEL 8 *
SAMPLES_AND_LINES 5966 7582 *
HORIZONTAL_DATUM NAD83 *
HORIZONTAL_COORDINATE_SYSTEM UTM *
COORDINATE_ZONE 10 *
HORIZONTAL_UNITS METERS *
HORIZONTAL_RESOLUTION 1.0 *
SECONDARY_HORIZONTAL_DATUM NAD27 *
XY_ORIGIN 536225.491 4573869.026 *
SECONDARY_XY_ORIGIN 536321.132 4573671.495 *
NATION US *
STATE CA *
NW_QUAD_CORNER_XY 536620.134 4573540.770 *
NE_QUAD_CORNER_XY 541851.598 4573569.026 *
SE_QUAD_CORNER_XY 541891.547 4566630.559 *
SW_QUAD_CORNER_XY 536655.089 4566602.311 *
SECONDARY_NW_QUAD_XY 536621.130 4573328.337 *
SECONDARY_NE_QUAD_XY 541852.736 4573356.593 *
SECONDARY_SE_QUAD_XY 541892.684 4566418.232 *
SECONDARY_SW_QUAD_XY 536656.084 4566389.984 *
RMSE_XY 1.51 *
IMAGE_SOURCE "BLACK AND WHITE FILM" *
SOURCE_IMAGE_ID "NAPP 10486 68" *
SOURCE_IMAGE_DATE 1998 8 24 *
SOURCE_IMAGE_ID "NAPP 10486 69" *
SOURCE_IMAGE_DATE 1998 8 24 *
SOURCE_IMAGE_ID "NAPP 10486 67" *
SOURCE_IMAGE_DATE 1998 8 24 *
SOURCE_IMAGE_ID "NAPP 10486 99" *
SOURCE_IMAGE_DATE 1998 8 24 *
SOURCE_IMAGE_ID "NAPP 10486 98" *
SOURCE_IMAGE_DATE 1998 8 24 *
SOURCE_IMAGE_ID "NAPP 10486 97" *
SOURCE_IMAGE_DATE 1998 8 24 *
SOURCE_IMAGE_ID "NAPP 10487 122" *
SOURCE_IMAGE_DATE 1998 8 27 *
SOURCE_IMAGE_ID "NAPP 10487 121" *
SOURCE_IMAGE_DATE 1998 8 27 *
SOURCE_IMAGE_ID "NAPP 10487 120" *
SOURCE_IMAGE_DATE 1998 8 27 *
SOURCE_DEM_DATE 2000 0 0 *
AGENCY "WESTERN MAPPING CENTER (WMC)" *
PRODUCER "USDA FS GEOSPATIAL SERVICE AND TECHNOLOGY CENTER" *
PRODUCTION_SYSTEM "ORBIT OR_RECTIFY V.5.2" *
STANDARD_VERSION 1996 12 *
METADATA_DATE 2001 5 16 *
DATA_FILE_SIZE 45240178 *
BYTE_COUNT 5966 * * * * * * * * * * * * * * * *
END_USGS_HEADER *
