BEGIN_USGS_DOQ_HEADER *
QUADRANGLE_NAME "SOUTH CHINA MOUNTAIN" 3.45 or 7.5-min. name*
QUADRANT SW quadrant indicator if cell size = 3.75-minutes*
WEST_LONGITUDE -122 37 30.000 signed deg min sec SDDD MM SS.SSS*
EAST_LONGITUDE -122 33 45.000 signed deg min sec SDDD MM SS.SSS*
NORTH_LATITUDE 41 18 45.000 signed deg min sec SDDD MM SS.SSS*
SOUTH_LATITUDE 41 15 0.000 signed deg min sec SDDD MM SS.SSS*
PRODUCTION_DATE 1995 12 7 yyyy mm dd*
RASTER_ORDER LEFT_RIGHT/TOP_BOTTOM video display order*
BAND_ORGANIZATION "SINGLE FILE" single file or BSQ, or BIL or BIP*
BAND_CONTENT BLACK&WHITE black&white or red green blue*
BITS_PER_PIXEL 8 radiometric resolution*
SAMPLES_AND_LINES 5971 7588 number of columns and rows*
HORIZONTAL_DATUM NAD83 primary horizontal datum*
HORIZONTAL_COORDINATE_SYSTEM UTM *
COORDINATE_ZONE 10 coordinate system zone number*
HORIZONTAL_UNITS METERS coordinate system units*
HORIZONTAL_RESOLUTION 1.00 pixel horiz. ground sample distance*
SECONDARY_HORIZONTAL_DATUM NAD27 secondary horizontal datum*
XY_ORIGIN 530989.500 4573845.500 coord. of upper left pixel pri. datum*
SECONDARY_XY_ORIGIN 531085.188 4573648.001 coord upper left pixel sec datum*
NATION US nation code*
STATE CA state fip code*
NW_QUAD_CORNER_XY 531388.676 4573516.282 XY coords. of pri. NW quad corner*
NE_QUAD_CORNER_XY 536620.134 4573540.770 XY coords. of pri. NE quad corner*
SE_QUAD_CORNER_XY 536655.089 4566602.311 XY coords. of pri. SE quad corner*
SW_QUAD_CORNER_XY 531418.637 4566577.830 XY coords. of pri. SW quad corner*
SECONDARY_NW_QUAD_XY 531389.527 4573303.846 XY coords. - sec. NW quad cor.*
SECONDARY_NE_QUAD_XY 536621.127 4573328.335 XY coords. - sec. NE quad cor.*
SECONDARY_SE_QUAD_XY 536656.081 4566389.982 XY coords. - sec. SE quad cor.*
SECONDARY_SW_QUAD_XY 531419.487 4566365.500 XY coords. - sec. SW quad cor.*
RMSE_XY 2.00 doq horiz. accuracy*
IMAGE_SOURCE "BLACK AND WHITE FILM" b&w, cir, natural color, other*
SOURCE_IMAGE_ID "PAPP 4254 626" source image id*
SOURCE_IMAGE_DATE 1993 8 25 source image date as yyyy mm dd*
SOURCE_DEM_DATE 1995 12 7 source dem date yyyy mm dd*
AGENCY "WESTERN MAPPING CENTER (WMC)" oversight agency*
PRODUCER "Woolpert Consultants" producer/contractor*
PRODUCTION_SYSTEM "INTERGRAPH ISPM,ISIR" production system*
STANDARD_VERSION 1996 12 version of DOQ standard*
METADATA_DATE 1997 5 23 date created or changed, yyyy mm dd*
DATA_FILE_SIZE 45313919 data set size in bytes*
BYTE_COUNT 5971 header byte count* * * * * * * * * * * * * * * * * * * * * * * * * * * * * * * *
END_USGS_HEADER *
