BEGIN_USGS_DOQ_HEADER *
QUADRANGLE_NAME "SCOTT MOUNTAIN" *
QUADRANT NE *
WEST_LONGITUDE -122 41 15.000 *
EAST_LONGITUDE -122 37 30.000 *
NORTH_LATITUDE 41 22 30.000 *
SOUTH_LATITUDE 41 18 45.000 *
PRODUCTION_DATE 2001 7 25 *
RASTER_ORDER LEFT_RIGHT/TOP_BOTTOM *
BAND_ORGANIZATION "SINGLE FILE" *
BAND_CONTENT BLACK&WHITE *
BITS_PER_PIXEL 8 *
SAMPLES_AND_LINES 5951 7574 *
HORIZONTAL_DATUM NAD83 *
HORIZONTAL_COORDINATE_SYSTEM UTM *
COORDINATE_ZONE 10 *
HORIZONTAL_UNITS METERS *
HORIZONTAL_RESOLUTION 1.0 *
SECONDARY_HORIZONTAL_DATUM NAD27 *
XY_ORIGIN 525737.215 4580754.810 *
SECONDARY_XY_ORIGIN 525832.938 4580557.349 *
NATION US *
STATE CA *
NW_QUAD_CORNER_XY 526132.223 4580434.084 *
NE_QUAD_CORNER_XY 531358.677 4580454.810 *
SE_QUAD_CORNER_XY 531388.675 4573516.282 *
SW_QUAD_CORNER_XY 526157.222 4573495.562 *
SECONDARY_NW_QUAD_XY 526132.936 4580221.544 *
SECONDARY_NE_QUAD_XY 531359.531 4580242.271 *
SECONDARY_SE_QUAD_XY 531389.530 4573303.848 *
SECONDARY_SW_QUAD_XY 526157.935 4573283.127 *
RMSE_XY 1.30 *
IMAGE_SOURCE "BLACK AND WHITE FILM" *
SOURCE_IMAGE_ID "NAPP 10485 123" *
SOURCE_IMAGE_DATE 1998 8 24 *
SOURCE_IMAGE_ID "NAPP 10485 122" *
SOURCE_IMAGE_DATE 1998 8 24 *
SOURCE_IMAGE_ID "NAPP 10485 124" *
SOURCE_IMAGE_DATE 1998 8 24 *
SOURCE_IMAGE_ID "NAPP 10485 69" *
SOURCE_IMAGE_DATE 1998 8 24 *
SOURCE_IMAGE_ID "NAPP 10485 68" *
SOURCE_IMAGE_DATE 1998 8 24 *
SOURCE_IMAGE_ID "NAPP 10485 67" *
SOURCE_IMAGE_DATE 1998 8 24 *
SOURCE_DEM_DATE 2000 0 0 *
AGENCY "WESTERN MAPPING CENTER (WMC)" *
PRODUCER "USDA FS GEOSPATIAL SERVICE AND TECHNOLOGY CENTER" *
PRODUCTION_SYSTEM "ORBIT OR_RECTIFY V.5.2" *
STANDARD_VERSION 1996 12 *
METADATA_DATE 2001 7 26 *
DATA_FILE_SIZE 45078825 *
BYTE_COUNT 5951 * * * * * * * * * * * * * * * * * * * * * *
END_USGS_HEADER *
