BEGIN_USGS_DOQ_HEADER *
QUADRANGLE_NAME "SCOTT MOUNTAIN" *
QUADRANT SE *
WEST_LONGITUDE -122 41 15.000 *
EAST_LONGITUDE -122 37 30.000 *
NORTH_LATITUDE 41 18 45.000 *
SOUTH_LATITUDE 41 15 0.000 *
PRODUCTION_DATE 2001 7 25 *
RASTER_ORDER LEFT_RIGHT/TOP_BOTTOM *
BAND_ORGANIZATION "SINGLE FILE" *
BAND_CONTENT BLACK&WHITE *
BITS_PER_PIXEL 8 *
SAMPLES_AND_LINES 5956 7574 *
HORIZONTAL_DATUM NAD83 *
HORIZONTAL_COORDINATE_SYSTEM UTM *
COORDINATE_ZONE 10 *
HORIZONTAL_UNITS METERS *
HORIZONTAL_RESOLUTION 1.0 *
SECONDARY_HORIZONTAL_DATUM NAD27 *
XY_ORIGIN 525762.195 4573816.282 *
SECONDARY_XY_ORIGIN 525857.936 4573618.819 *
NATION US *
STATE CA *
NW_QUAD_CORNER_XY 526157.222 4573495.562 *
NE_QUAD_CORNER_XY 531388.675 4573516.282 *
SE_QUAD_CORNER_XY 531418.637 4566577.830 *
SW_QUAD_CORNER_XY 526182.190 4566557.116 *
SECONDARY_NW_QUAD_XY 526157.935 4573283.127 *
SECONDARY_NE_QUAD_XY 531389.530 4573303.848 *
SECONDARY_SE_QUAD_XY 531419.491 4566365.502 *
SECONDARY_SW_QUAD_XY 526182.902 4566344.787 *
RMSE_XY 1.30 *
IMAGE_SOURCE "BLACK AND WHITE FILM" *
SOURCE_IMAGE_ID "NAPP 10485 121" *
SOURCE_IMAGE_DATE 1998 8 24 *
SOURCE_IMAGE_ID "NAPP 10485 120" *
SOURCE_IMAGE_DATE 1998 8 24 *
SOURCE_IMAGE_ID "NAPP 10485 122" *
SOURCE_IMAGE_DATE 1998 8 24 *
SOURCE_IMAGE_ID "NAPP 10485 71" *
SOURCE_IMAGE_DATE 1998 8 24 *
SOURCE_IMAGE_ID "NAPP 10485 70" *
SOURCE_IMAGE_DATE 1998 8 24 *
SOURCE_IMAGE_ID "NAPP 10485 69" *
SOURCE_IMAGE_DATE 1998 8 24 *
SOURCE_DEM_DATE 2000 0 0 *
AGENCY "WESTERN MAPPING CENTER (WMC)" *
PRODUCER "USDA FS GEOSPATIAL SERVICE AND TECHNOLOGY CENTER" *
PRODUCTION_SYSTEM "ORBIT OR_RECTIFY V.5.2" *
STANDARD_VERSION 1996 12 *
METADATA_DATE 2001 7 26 *
DATA_FILE_SIZE 45116700 *
BYTE_COUNT 5956 * * * * * * * * * * * * * * * * * * * * * *
END_USGS_HEADER *
