BEGIN_USGS_DOQ_HEADER *
QUADRANGLE_NAME "ASH CREEK BUTTE" *
QUADRANT NE *
WEST_LONGITUDE -122 3 45.000 *
EAST_LONGITUDE -122 0 0.000 *
NORTH_LATITUDE 41 30 0.000 *
SOUTH_LATITUDE 41 26 15.000 *
PRODUCTION_DATE 2001 4 24 *
RASTER_ORDER LEFT_RIGHT/TOP_BOTTOM *
BAND_ORGANIZATION "SINGLE FILE" *
BAND_CONTENT BLACK&WHITE *
BITS_PER_PIXEL 8 *
SAMPLES_AND_LINES 5990 7612 *
HORIZONTAL_DATUM NAD83 *
HORIZONTAL_COORDINATE_SYSTEM UTM *
COORDINATE_ZONE 10 *
HORIZONTAL_UNITS METERS *
HORIZONTAL_RESOLUTION 1.0 *
SECONDARY_HORIZONTAL_DATUM NAD27 *
XY_ORIGIN 577853.616 4595046.871 *
SECONDARY_XY_ORIGIN 577948.912 4594848.899 *
NATION US *
STATE CA *
NW_QUAD_CORNER_XY 578246.780 4594688.422 *
NE_QUAD_CORNER_XY 583463.295 4594746.871 *
SE_QUAD_CORNER_XY 583543.501 4587808.079 *
SW_QUAD_CORNER_XY 578321.971 4587749.646 *
SECONDARY_NW_QUAD_XY 578248.914 4594475.685 *
SECONDARY_NE_QUAD_XY 583465.571 4594534.135 *
SECONDARY_SE_QUAD_XY 583545.775 4587595.447 *
SECONDARY_SW_QUAD_XY 578324.104 4587537.012 *
RMSE_XY 1.58 *
IMAGE_SOURCE "BLACK AND WHITE FILM" *
SOURCE_IMAGE_ID "NAPP 10487 4" *
SOURCE_IMAGE_DATE 1998 8 27 *
SOURCE_IMAGE_ID "NAPP 10487 3" *
SOURCE_IMAGE_DATE 1998 8 27 *
SOURCE_IMAGE_ID "NAPP 10487 5" *
SOURCE_IMAGE_DATE 1998 8 27 *
SOURCE_IMAGE_ID "NAPP 10487 48" *
SOURCE_IMAGE_DATE 1998 8 27 *
SOURCE_IMAGE_ID "NAPP 10487 47" *
SOURCE_IMAGE_DATE 1998 8 27 *
SOURCE_IMAGE_ID "NAPP 10487 46" *
SOURCE_IMAGE_DATE 1998 8 27 *
SOURCE_IMAGE_ID "NAPP 10508 16" *
SOURCE_IMAGE_DATE 1998 9 13 *
SOURCE_IMAGE_ID "NAPP 10508 17" *
SOURCE_IMAGE_DATE 1998 9 13 *
SOURCE_IMAGE_ID "NAPP 10508 18" *
SOURCE_IMAGE_DATE 1998 9 13 *
SOURCE_DEM_DATE 2000 0 0 *
AGENCY "WESTERN MAPPING CENTER (WMC)" *
PRODUCER "USDA FS GEOSPATIAL SERVICE AND TECHNOLOGY CENTER" *
PRODUCTION_SYSTEM "ORBIT OR_RECTIFY V.5.2" *
STANDARD_VERSION 1996 12 *
METADATA_DATE 2001 5 16 *
DATA_FILE_SIZE 45601870 *
BYTE_COUNT 5990 * * * * * * * * * * * * * * * *
END_USGS_HEADER *
