BEGIN_USGS_DOQ_HEADER *
QUADRANGLE_NAME "ASH CREEK BUTTE" *
QUADRANT SW *
WEST_LONGITUDE -122 7 30.000 *
EAST_LONGITUDE -122 3 45.000 *
NORTH_LATITUDE 41 26 15.000 *
SOUTH_LATITUDE 41 22 30.000 *
PRODUCTION_DATE 2001 4 24 *
RASTER_ORDER LEFT_RIGHT/TOP_BOTTOM *
BAND_ORGANIZATION "SINGLE FILE" *
BAND_CONTENT BLACK&WHITE *
BITS_PER_PIXEL 8 *
SAMPLES_AND_LINES 5990 7608 *
HORIZONTAL_DATUM NAD83 *
HORIZONTAL_COORDINATE_SYSTEM UTM *
COORDINATE_ZONE 10 *
HORIZONTAL_UNITS METERS *
HORIZONTAL_RESOLUTION 1.0 *
SECONDARY_HORIZONTAL_DATUM NAD27 *
XY_ORIGIN 572707.142 4588049.646 *
SECONDARY_XY_ORIGIN 572802.446 4587851.687 *
NATION US *
STATE CA *
NW_QUAD_CORNER_XY 573100.453 4587694.984 *
NE_QUAD_CORNER_XY 578321.971 4587749.646 *
SE_QUAD_CORNER_XY 578397.069 4580810.944 *
SW_QUAD_CORNER_XY 573170.543 4580756.297 *
SECONDARY_NW_QUAD_XY 573102.444 4587482.349 *
SECONDARY_NE_QUAD_XY 578324.104 4587537.012 *
SECONDARY_SE_QUAD_XY 578399.200 4580598.415 *
SECONDARY_SW_QUAD_XY 573172.533 4580543.766 *
RMSE_XY 1.58 *
IMAGE_SOURCE "BLACK AND WHITE FILM" *
SOURCE_IMAGE_ID "NAPP 10487 49" *
SOURCE_IMAGE_DATE 1998 8 27 *
SOURCE_IMAGE_ID "NAPP 10487 50" *
SOURCE_IMAGE_DATE 1998 8 27 *
SOURCE_IMAGE_ID "NAPP 10487 48" *
SOURCE_IMAGE_DATE 1998 8 27 *
SOURCE_IMAGE_ID "NAPP 10487 168" *
SOURCE_IMAGE_DATE 1998 8 27 *
SOURCE_IMAGE_ID "NAPP 10487 169" *
SOURCE_IMAGE_DATE 1998 8 27 *
SOURCE_IMAGE_ID "NAPP 10487 170" *
SOURCE_IMAGE_DATE 1998 8 27 *
SOURCE_IMAGE_ID "NAPP 10487 1" *
SOURCE_IMAGE_DATE 1998 8 27 *
SOURCE_IMAGE_ID "NAPP 10487 2" *
SOURCE_IMAGE_DATE 1998 8 27 *
SOURCE_IMAGE_ID "NAPP 10487 3" *
SOURCE_IMAGE_DATE 1998 8 27 *
SOURCE_DEM_DATE 2000 0 0 *
AGENCY "WESTERN MAPPING CENTER (WMC)" *
PRODUCER "USDA FS GEOSPATIAL SERVICE AND TECHNOLOGY CENTER" *
PRODUCTION_SYSTEM "ORBIT OR_RECTIFY V.5.2" *
STANDARD_VERSION 1996 12 *
METADATA_DATE 2001 5 16 *
DATA_FILE_SIZE 45577910 *
BYTE_COUNT 5990 * * * * * * * * * * * * * * * *
END_USGS_HEADER *
