BEGIN_USGS_DOQ_HEADER *
QUADRANGLE_NAME "WEED" *
QUADRANT SW *
WEST_LONGITUDE -122 30 0.000 *
EAST_LONGITUDE -122 26 15.000 *
NORTH_LATITUDE 41 26 15.000 *
SOUTH_LATITUDE 41 22 30.000 *
PRODUCTION_DATE 2001 5 9 *
RASTER_ORDER LEFT_RIGHT/TOP_BOTTOM *
BAND_ORGANIZATION "SINGLE FILE" *
BAND_CONTENT BLACK&WHITE *
BITS_PER_PIXEL 8 *
SAMPLES_AND_LINES 5961 7586 *
HORIZONTAL_DATUM NAD83 *
HORIZONTAL_COORDINATE_SYSTEM UTM *
COORDINATE_ZONE 10 *
HORIZONTAL_UNITS METERS *
HORIZONTAL_RESOLUTION 1.0 *
SECONDARY_HORIZONTAL_DATUM NAD27 *
XY_ORIGIN 541377.630 4587778.227 *
SECONDARY_XY_ORIGIN 541473.190 4587580.610 *
NATION US *
STATE CA *
NW_QUAD_CORNER_XY 541771.550 4587446.186 *
NE_QUAD_CORNER_XY 546993.013 4587478.227 *
SE_QUAD_CORNER_XY 547038.069 4580539.601 *
SW_QUAD_CORNER_XY 541811.599 4580507.569 *
SECONDARY_NW_QUAD_XY 541772.689 4587233.545 *
SECONDARY_NE_QUAD_XY 546994.295 4587265.587 *
SECONDARY_SE_QUAD_XY 547039.349 4580327.065 *
SECONDARY_SW_QUAD_XY 541812.737 4580295.031 *
RMSE_XY 1.51 *
IMAGE_SOURCE "BLACK AND WHITE FILM" *
SOURCE_IMAGE_ID "NAPP 10481 222" *
SOURCE_IMAGE_DATE 1998 8 14 *
SOURCE_IMAGE_ID "NAPP 10487 118" *
SOURCE_IMAGE_DATE 1998 8 27 *
SOURCE_IMAGE_ID "NAPP 10481 221" *
SOURCE_IMAGE_DATE 1998 8 14 *
SOURCE_IMAGE_ID "NAPP 10495 10" *
SOURCE_IMAGE_DATE 1999 7 29 *
SOURCE_IMAGE_ID "NAPP 10495 9" *
SOURCE_IMAGE_DATE 1999 7 29 *
SOURCE_IMAGE_ID "NAPP 10495 8" *
SOURCE_IMAGE_DATE 1999 7 29 *
SOURCE_IMAGE_ID "NAPP 10486 90" *
SOURCE_IMAGE_DATE 1998 8 24 *
SOURCE_IMAGE_ID "NAPP 10482 91" *
SOURCE_IMAGE_DATE 1998 8 14 *
SOURCE_IMAGE_ID "NAPP 10482 90" *
SOURCE_IMAGE_DATE 1998 8 14 *
SOURCE_DEM_DATE 2000 0 0 *
AGENCY "WESTERN MAPPING CENTER (WMC)" *
PRODUCER "USDA FS GEOSPATIAL SERVICE AND TECHNOLOGY CENTER" *
PRODUCTION_SYSTEM "ORBIT OR_RECTIFY V.5.2" *
STANDARD_VERSION 1996 12 *
METADATA_DATE 2001 5 16 *
DATA_FILE_SIZE 45226107 *
BYTE_COUNT 5961 * * * * * * * * * * * * * * * *
END_USGS_HEADER *
