BEGIN_USGS_DOQ_HEADER *
QUADRANGLE_NAME "CHINA MOUNTAIN" *
QUADRANT SW *
WEST_LONGITUDE -122 37 30.000 *
EAST_LONGITUDE -122 33 45.000 *
NORTH_LATITUDE 41 26 15.000 *
SOUTH_LATITUDE 41 22 30.000 *
PRODUCTION_DATE 2001 5 9 *
RASTER_ORDER LEFT_RIGHT/TOP_BOTTOM *
BAND_ORGANIZATION "SINGLE FILE" *
BAND_CONTENT BLACK&WHITE *
BITS_PER_PIXEL 8 *
SAMPLES_AND_LINES 5951 7578 *
HORIZONTAL_DATUM NAD83 *
HORIZONTAL_COORDINATE_SYSTEM UTM *
COORDINATE_ZONE 10 *
HORIZONTAL_UNITS METERS *
HORIZONTAL_RESOLUTION 1.0 *
SECONDARY_HORIZONTAL_DATUM NAD27 *
XY_ORIGIN 530934.341 4587717.915 *
SECONDARY_XY_ORIGIN 531029.997 4587520.403 *
NATION US *
STATE CA *
NW_QUAD_CORNER_XY 531328.640 4587393.413 *
NE_QUAD_CORNER_XY 536550.092 4587417.915 *
SE_QUAD_CORNER_XY 536585.135 4580479.305 *
SW_QUAD_CORNER_XY 531358.677 4580454.810 *
SECONDARY_NW_QUAD_XY 531329.495 4587180.770 *
SECONDARY_NE_QUAD_XY 536551.089 4587205.272 *
SECONDARY_SE_QUAD_XY 536586.131 4580266.767 *
SECONDARY_SW_QUAD_XY 531359.531 4580242.271 *
RMSE_XY 1.51 *
IMAGE_SOURCE "BLACK AND WHITE FILM" *
SOURCE_IMAGE_ID "NAPP 10486 94" *
SOURCE_IMAGE_DATE 1998 8 24 *
SOURCE_IMAGE_ID "NAPP 10486 95" *
SOURCE_IMAGE_DATE 1998 8 24 *
SOURCE_IMAGE_ID "NAPP 10486 93" *
SOURCE_IMAGE_DATE 1998 8 24 *
SOURCE_IMAGE_ID "NAPP 10495 10" *
SOURCE_IMAGE_DATE 1999 7 29 *
SOURCE_IMAGE_ID "NAPP 10495 9" *
SOURCE_IMAGE_DATE 1999 7 29 *
SOURCE_IMAGE_ID "NAPP 10495 8" *
SOURCE_IMAGE_DATE 1999 7 29 *
SOURCE_DEM_DATE 2000 0 0 *
AGENCY "WESTERN MAPPING CENTER (WMC)" *
PRODUCER "USDA FS GEOSPATIAL SERVICE AND TECHNOLOGY CENTER" *
PRODUCTION_SYSTEM "ORBIT OR_RECTIFY V.5.2" *
STANDARD_VERSION 1996 12 *
METADATA_DATE 2001 5 16 *
DATA_FILE_SIZE 45102629 *
BYTE_COUNT 5951 * * * * * * * * * * * * * * * * * * * * * *
END_USGS_HEADER *
