BEGIN_USGS_DOQ_HEADER *
QUADRANGLE_NAME "THE WHALEBACK" *
QUADRANT NE *
WEST_LONGITUDE -122 11 15.000 *
EAST_LONGITUDE -122 7 30.000 *
NORTH_LATITUDE 41 37 30.000 *
SOUTH_LATITUDE 41 33 45.000 *
PRODUCTION_DATE 2001 5 14 *
RASTER_ORDER LEFT_RIGHT/TOP_BOTTOM *
BAND_ORGANIZATION "SINGLE FILE" *
BAND_CONTENT BLACK&WHITE *
BITS_PER_PIXEL 8 *
SAMPLES_AND_LINES 5968 7603 *
HORIZONTAL_DATUM NAD83 *
HORIZONTAL_COORDINATE_SYSTEM UTM *
COORDINATE_ZONE 10 *
HORIZONTAL_UNITS METERS *
HORIZONTAL_RESOLUTION 1.0 *
SECONDARY_HORIZONTAL_DATUM NAD27 *
XY_ORIGIN 567290.824 4608810.488 *
SECONDARY_XY_ORIGIN 567386.062 4608612.596 *
NATION US *
STATE CA *
NW_QUAD_CORNER_XY 567683.211 4608460.555 *
NE_QUAD_CORNER_XY 572889.659 4608511.488 *
SE_QUAD_CORNER_XY 572960.011 4601572.579 *
SW_QUAD_CORNER_XY 567748.537 4601521.660 *
SECONDARY_NW_QUAD_XY 567685.063 4608247.611 *
SECONDARY_NE_QUAD_XY 572891.653 4608298.545 *
SECONDARY_SE_QUAD_XY 572962.004 4601359.738 *
SECONDARY_SW_QUAD_XY 567750.388 4601308.817 *
RMSE_XY 1.23 *
IMAGE_SOURCE "BLACK AND WHITE FILM" *
SOURCE_IMAGE_ID "NAPP 10487 66" *
SOURCE_IMAGE_DATE 1998 8 27 *
SOURCE_IMAGE_ID "NAPP 10487 65" *
SOURCE_IMAGE_DATE 1998 8 27 *
SOURCE_IMAGE_ID "NAPP 10487 67" *
SOURCE_IMAGE_DATE 1998 8 27 *
SOURCE_IMAGE_ID "NAPP 10495 3" *
SOURCE_IMAGE_DATE 1999 7 29 *
SOURCE_IMAGE_ID "NAPP 10495 4" *
SOURCE_IMAGE_DATE 1999 7 29 *
SOURCE_IMAGE_ID "NAPP 10495 5" *
SOURCE_IMAGE_DATE 1999 7 29 *
SOURCE_IMAGE_ID "NAPP 10487 44" *
SOURCE_IMAGE_DATE 1998 8 27 *
SOURCE_IMAGE_ID "NAPP 10487 43" *
SOURCE_IMAGE_DATE 1998 8 27 *
SOURCE_IMAGE_ID "NAPP 10487 42" *
SOURCE_IMAGE_DATE 1998 8 27 *
SOURCE_DEM_DATE 2000 0 0 *
AGENCY "WESTERN MAPPING CENTER (WMC)" *
PRODUCER "USDA FS GEOSPATIAL SERVICE AND TECHNOLOGY CENTER" *
PRODUCTION_SYSTEM "ORBIT OR_RECTIFY V.5.2" *
STANDARD_VERSION 1996 12 *
METADATA_DATE 2001 5 15 *
DATA_FILE_SIZE 45380672 *
BYTE_COUNT 5968 * * * * * * * * * * * * * * * *
END_USGS_HEADER *
