BEGIN_USGS_DOQ_HEADER *
QUADRANGLE_NAME "JUNIPER FLAT" 3.45 or 7.5-min. name*
QUADRANT NW quadrant indicator if cell size = 3.75-minutes*
WEST_LONGITUDE -122 22 30.000 signed deg min sec SDDD MM SS.SSS*
EAST_LONGITUDE -122 18 45.000 signed deg min sec SDDD MM SS.SSS*
NORTH_LATITUDE 41 37 30.000 signed deg min sec SDDD MM SS.SSS*
SOUTH_LATITUDE 41 33 45.000 signed deg min sec SDDD MM SS.SSS*
PRODUCTION_DATE 1995 11 21 yyyy mm dd*
RASTER_ORDER LEFT_RIGHT/TOP_BOTTOM video display order*
BAND_ORGANIZATION "SINGLE FILE" single file or BSQ, or BIL or BIP*
BAND_CONTENT BLACK&WHITE black&white or red green blue*
BITS_PER_PIXEL 8 radiometric resolution*
SAMPLES_AND_LINES 5963 7601 number of columns and rows*
HORIZONTAL_DATUM NAD83 primary horizontal datum*
HORIZONTAL_COORDINATE_SYSTEM UTM *
COORDINATE_ZONE 10 coordinate system zone number*
HORIZONTAL_UNITS METERS coordinate system units*
HORIZONTAL_RESOLUTION 1.00 pixel horiz. ground sample distance*
SECONDARY_HORIZONTAL_DATUM NAD27 secondary horizontal datum*
XY_ORIGIN 551666.500 4608673.500 coord. of upper left pixel pri. datum*
SECONDARY_XY_ORIGIN 551761.833 4608475.735 coord upper left pixel sec datum*
NATION US nation code*
STATE CA state fip code*
NW_QUAD_CORNER_XY 552063.924 4608330.397 XY coords. of pri. NW quad corner*
NE_QUAD_CORNER_XY 557270.344 4608370.010 XY coords. of pri. NE quad corner*
SE_QUAD_CORNER_XY 557325.619 4601431.138 XY coords. of pri. SE quad corner*
SW_QUAD_CORNER_XY 552114.173 4601391.536 XY coords. of pri. SW quad corner*
SECONDARY_NW_QUAD_XY 552065.346 4608117.447 XY coords. - sec. NW quad cor.*
SECONDARY_NE_QUAD_XY 557271.909 4608157.061 XY coords. - sec. NE quad cor.*
SECONDARY_SE_QUAD_XY 557327.183 4601218.292 XY coords. - sec. SE quad cor.*
SECONDARY_SW_QUAD_XY 552115.594 4601178.688 XY coords. - sec. SW quad cor.*
RMSE_XY 0.80 doq horiz. accuracy*
IMAGE_SOURCE "BLACK AND WHITE FILM" b&w, cir, natural color, other*
SOURCE_IMAGE_ID "PAPP 9259 838" source image id*
SOURCE_IMAGE_DATE 1994 7 25 source image date as yyyy mm dd*
SOURCE_DEM_DATE 1995 11 21 source dem date yyyy mm dd*
AGENCY "WESTERN MAPPING CENTER (WMC)" oversight agency*
PRODUCER "Woolpert Consultants" producer/contractor*
PRODUCTION_SYSTEM "INTERGRAPH ISPM,ISIR" production system*
STANDARD_VERSION 1996 12 version of DOQ standard*
METADATA_DATE 1997 5 23 date created or changed, yyyy mm dd*
DATA_FILE_SIZE 45330726 data set size in bytes*
BYTE_COUNT 5963 header byte count* * * * * * * * * * * * * * * * * * * * * * * * * * * * * * * *
END_USGS_HEADER *
