BEGIN_USGS_DOQ_HEADER *
QUADRANGLE_NAME "LAKE SHASTINA" *
QUADRANT NW *
WEST_LONGITUDE -122 30 0.000 *
EAST_LONGITUDE -122 26 15.000 *
NORTH_LATITUDE 41 37 30.000 *
SOUTH_LATITUDE 41 33 45.000 *
PRODUCTION_DATE 2001 6 20 *
RASTER_ORDER LEFT_RIGHT/TOP_BOTTOM *
BAND_ORGANIZATION "SINGLE FILE" *
BAND_CONTENT BLACK&WHITE *
BITS_PER_PIXEL 8 *
SAMPLES_AND_LINES 5946 7586 *
HORIZONTAL_DATUM NAD83 *
HORIZONTAL_COORDINATE_SYSTEM UTM *
COORDINATE_ZONE 10 *
HORIZONTAL_UNITS METERS *
HORIZONTAL_RESOLUTION 1.0 *
SECONDARY_HORIZONTAL_DATUM NAD27 *
XY_ORIGIN 541256.834 4608594.557 *
SECONDARY_XY_ORIGIN 541352.243 4608396.905 *
NATION US *
STATE CA *
NW_QUAD_CORNER_XY 541651.103 4608262.490 *
NE_QUAD_CORNER_XY 546857.510 4608294.557 *
SE_QUAD_CORNER_XY 546902.734 4601355.705 *
SW_QUAD_CORNER_XY 541691.302 4601323.647 *
SECONDARY_NW_QUAD_XY 541652.244 4608049.541 *
SECONDARY_NE_QUAD_XY 546858.793 4608081.608 *
SECONDARY_SE_QUAD_XY 546904.016 4601142.859 *
SECONDARY_SW_QUAD_XY 541692.442 4601110.799 *
RMSE_XY 1.41 *
IMAGE_SOURCE "BLACK AND WHITE FILM" *
SOURCE_IMAGE_ID "NAPP 10481 216" *
SOURCE_IMAGE_DATE 1998 8 14 *
SOURCE_IMAGE_ID "NAPP 10481 217" *
SOURCE_IMAGE_DATE 1998 8 14 *
SOURCE_IMAGE_ID "NAPP 10481 215" *
SOURCE_IMAGE_DATE 1998 8 14 *
SOURCE_IMAGE_ID "NAPP 10481 180" *
SOURCE_IMAGE_DATE 1998 8 14 *
SOURCE_IMAGE_ID "NAPP 10481 181" *
SOURCE_IMAGE_DATE 1998 8 14 *
SOURCE_IMAGE_ID "NAPP 10481 182" *
SOURCE_IMAGE_DATE 1998 8 14 *
SOURCE_IMAGE_ID "NAPP 10482 86" *
SOURCE_IMAGE_DATE 1998 8 14 *
SOURCE_IMAGE_ID "NAPP 10482 85" *
SOURCE_IMAGE_DATE 1998 8 14 *
SOURCE_IMAGE_ID "NAPP 10482 84" *
SOURCE_IMAGE_DATE 1998 8 14 *
SOURCE_DEM_DATE 1984 1 1 *
AGENCY "WESTERN MAPPING CENTER (WMC)" *
PRODUCER "USDA FS GEOSPATIAL SERVICE AND TECHNOLOGY CENTER" *
PRODUCTION_SYSTEM "ORBIT OR_RECTIFY V.5.2" *
STANDARD_VERSION 1996 12 *
METADATA_DATE 2001 6 22 *
DATA_FILE_SIZE 45112302 *
BYTE_COUNT 5946 * * * * * * * * * * * * * * * *
END_USGS_HEADER *
