BEGIN_USGS_DOQ_HEADER *
QUADRANGLE_NAME "LAKE SHASTINA" *
QUADRANT SW *
WEST_LONGITUDE -122 30 0.000 *
EAST_LONGITUDE -122 26 15.000 *
NORTH_LATITUDE 41 33 45.000 *
SOUTH_LATITUDE 41 30 0.000 *
PRODUCTION_DATE 2001 6 20 *
RASTER_ORDER LEFT_RIGHT/TOP_BOTTOM *
BAND_ORGANIZATION "SINGLE FILE" *
BAND_CONTENT BLACK&WHITE *
BITS_PER_PIXEL 8 *
SAMPLES_AND_LINES 5951 7586 *
HORIZONTAL_DATUM NAD83 *
HORIZONTAL_COORDINATE_SYSTEM UTM *
COORDINATE_ZONE 10 *
HORIZONTAL_UNITS METERS *
HORIZONTAL_RESOLUTION 1.0 *
SECONDARY_HORIZONTAL_DATUM NAD27 *
XY_ORIGIN 541296.966 4601655.705 *
SECONDARY_XY_ORIGIN 541392.441 4601458.058 *
NATION US *
STATE CA *
NW_QUAD_CORNER_XY 541691.302 4601323.647 *
NE_QUAD_CORNER_XY 546902.734 4601355.705 *
SE_QUAD_CORNER_XY 546947.902 4594416.929 *
SW_QUAD_CORNER_XY 541731.451 4594384.879 *
SECONDARY_NW_QUAD_XY 541692.442 4601110.799 *
SECONDARY_NE_QUAD_XY 546904.016 4601142.859 *
SECONDARY_SE_QUAD_XY 546949.184 4594204.185 *
SECONDARY_SW_QUAD_XY 541732.590 4594172.134 *
RMSE_XY 1.41 *
IMAGE_SOURCE "BLACK AND WHITE FILM" *
SOURCE_IMAGE_ID "NAPP 10481 218" *
SOURCE_IMAGE_DATE 1998 8 14 *
SOURCE_IMAGE_ID "NAPP 10481 219" *
SOURCE_IMAGE_DATE 1998 8 14 *
SOURCE_IMAGE_ID "NAPP 10481 217" *
SOURCE_IMAGE_DATE 1998 8 14 *
SOURCE_IMAGE_ID "NAPP 10481 178" *
SOURCE_IMAGE_DATE 1998 8 14 *
SOURCE_IMAGE_ID "NAPP 10481 179" *
SOURCE_IMAGE_DATE 1998 8 14 *
SOURCE_IMAGE_ID "NAPP 10481 180" *
SOURCE_IMAGE_DATE 1998 8 14 *
SOURCE_IMAGE_ID "NAPP 10482 88" *
SOURCE_IMAGE_DATE 1998 8 14 *
SOURCE_IMAGE_ID "NAPP 10482 87" *
SOURCE_IMAGE_DATE 1998 8 14 *
SOURCE_IMAGE_ID "NAPP 10482 86" *
SOURCE_IMAGE_DATE 1998 8 14 *
SOURCE_DEM_DATE 1984 1 1 *
AGENCY "WESTERN MAPPING CENTER (WMC)" *
PRODUCER "USDA FS GEOSPATIAL SERVICE AND TECHNOLOGY CENTER" *
PRODUCTION_SYSTEM "ORBIT OR_RECTIFY V.5.2" *
STANDARD_VERSION 1996 12 *
METADATA_DATE 2001 6 22 *
DATA_FILE_SIZE 45150237 *
BYTE_COUNT 5951 * * * * * * * * * * * * * * * *
END_USGS_HEADER *
