BEGIN_USGS_DOQ_HEADER *
QUADRANGLE_NAME "GAZELLE" *
QUADRANT NE *
WEST_LONGITUDE -122 33 45.000 *
EAST_LONGITUDE -122 30 0.000 *
NORTH_LATITUDE 41 37 30.000 *
SOUTH_LATITUDE 41 33 45.000 *
PRODUCTION_DATE 2001 6 20 *
RASTER_ORDER LEFT_RIGHT/TOP_BOTTOM *
BAND_ORGANIZATION "SINGLE FILE" *
BAND_CONTENT BLACK&WHITE *
BITS_PER_PIXEL 8 *
SAMPLES_AND_LINES 5941 7582 *
HORIZONTAL_DATUM NAD83 *
HORIZONTAL_COORDINATE_SYSTEM UTM *
COORDINATE_ZONE 10 *
HORIZONTAL_UNITS METERS *
HORIZONTAL_RESOLUTION 1.0 *
SECONDARY_HORIZONTAL_DATUM NAD27 *
XY_ORIGIN 536050.251 4608562.490 *
SECONDARY_XY_ORIGIN 536145.700 4608364.902 *
NATION US *
STATE CA *
NW_QUAD_CORNER_XY 536444.702 4608234.195 *
NE_QUAD_CORNER_XY 541651.103 4608262.490 *
SE_QUAD_CORNER_XY 541691.302 4601323.647 *
SW_QUAD_CORNER_XY 536479.876 4601295.360 *
SECONDARY_NW_QUAD_XY 536445.701 4608021.246 *
SECONDARY_NE_QUAD_XY 541652.244 4608049.541 *
SECONDARY_SE_QUAD_XY 541692.442 4601110.799 *
SECONDARY_SW_QUAD_XY 536480.874 4601082.512 *
RMSE_XY 1.41 *
IMAGE_SOURCE "BLACK AND WHITE FILM" *
SOURCE_IMAGE_ID "NAPP 10481 181" *
SOURCE_IMAGE_DATE 1998 8 14 *
SOURCE_IMAGE_ID "NAPP 10481 180" *
SOURCE_IMAGE_DATE 1998 8 14 *
SOURCE_IMAGE_ID "NAPP 10481 182" *
SOURCE_IMAGE_DATE 1998 8 14 *
SOURCE_IMAGE_ID "NAPP 10481 175" *
SOURCE_IMAGE_DATE 1998 8 14 *
SOURCE_IMAGE_ID "NAPP 10481 174" *
SOURCE_IMAGE_DATE 1998 8 14 *
SOURCE_IMAGE_ID "NAPP 10481 173" *
SOURCE_IMAGE_DATE 1998 8 14 *
SOURCE_IMAGE_ID "NAPP 10481 217" *
SOURCE_IMAGE_DATE 1998 8 14 *
SOURCE_IMAGE_ID "NAPP 10481 216" *
SOURCE_IMAGE_DATE 1998 8 14 *
SOURCE_IMAGE_ID "NAPP 10481 215" *
SOURCE_IMAGE_DATE 1998 8 14 *
SOURCE_DEM_DATE 1984 1 1 *
AGENCY "WESTERN MAPPING CENTER (WMC)" *
PRODUCER "USDA FS GEOSPATIAL SERVICE AND TECHNOLOGY CENTER" *
PRODUCTION_SYSTEM "ORBIT OR_RECTIFY V.5.2" *
STANDARD_VERSION 1996 12 *
METADATA_DATE 2001 6 22 *
DATA_FILE_SIZE 45050603 *
BYTE_COUNT 5941 * * * * * * * * * * * * * * * *
END_USGS_HEADER *
