BEGIN_USGS_DOQ_HEADER *
QUADRANGLE_NAME "GAZELLE" 3.45 or 7.5-min. name*
QUADRANT SE quadrant indicator if cell size = 3.75-minutes*
WEST_LONGITUDE -122 33 45.000 signed deg min sec SDDD MM SS.SSS*
EAST_LONGITUDE -122 30 0.000 signed deg min sec SDDD MM SS.SSS*
NORTH_LATITUDE 41 33 45.000 signed deg min sec SDDD MM SS.SSS*
SOUTH_LATITUDE 41 30 0.000 signed deg min sec SDDD MM SS.SSS*
PRODUCTION_DATE 1997 11 26 yyyy mm dd*
RASTER_ORDER left_right/top_bottom video display order*
BAND_ORGANIZATION "single file" single file or BSQ, or BIL or BIP*
BAND_CONTENT BLACK&WHITE black&white or red green blue*
BITS_PER_PIXEL 8 radiometric resolution*
SAMPLES_AND_LINES 5957 7593 number of columns and rows*
HORIZONTAL_DATUM NAD83 primary horizontal datum*
HORIZONTAL_COORDINATE_SYSTEM UTM *
COORDINATE_ZONE 10 coordinate system zone number*
HORIZONTAL_UNITS meters coordinate system units*
HORIZONTAL_RESOLUTION 1.00 pixel horiz. ground sample distance*
SECONDARY_HORIZONTAL_DATUM NAD27 secondary horizontal datum*
XY_ORIGIN 536080.000 4601629.000 coord. of upper left pixel pri. datum*
SECONDARY_XY_ORIGIN 536175.516 4601431.414 coord upper left pixel sec datum*
NATION US nation code*
STATE CA state fip code*
NW_QUAD_CORNER_XY 536479.876 4601295.360 XY coords. of pri. NW quad corner*
NE_QUAD_CORNER_XY 541691.302 4601323.647 XY coords. of pri. NE quad corner*
SE_QUAD_CORNER_XY 541731.451 4594384.879 XY coords. of pri. SE quad corner*
SW_QUAD_CORNER_XY 536515.006 4594356.600 XY coords. of pri. SW quad corner*
SECONDARY_NW_QUAD_XY 536480.871 4601082.509 XY coords. - sec. NW quad cor.*
SECONDARY_NE_QUAD_XY 541692.439 4601110.797 XY coords. - sec. NE quad cor.*
SECONDARY_SE_QUAD_XY 541732.587 4594172.132 XY coords. - sec. SE quad cor.*
SECONDARY_SW_QUAD_XY 536516.000 4594143.852 XY coords. - sec. SW quad cor.*
RMSE_XY 1.18 doq horiz. accuracy*
IMAGE_SOURCE "BLACK AND WHITE FILM" b&w, cir, natural color, other*
SOURCE_IMAGE_ID "NAPP 6249-030" source image id*
SOURCE_IMAGE_DATE 1993 6 13 source image date as yyyy mm dd*
SOURCE_DEM_DATE 1997 2 1 source dem date yyyy mm dd*
AGENCY "WESTERN MAPPING CENTER (WMC)" oversight agency*
PRODUCER "WOOLPERT LLP" producer/contractor*
PRODUCTION_SYSTEM "INTERGRAPH ISPM, ISIR" production system*
STANDARD_VERSION 1996 12 version of DOQ standard*
METADATA_DATE 1997 11 26 date created or changed, yyyy mm dd*
DATA_FILE_SIZE 45237458 data set size in bytes*
BYTE_COUNT 5957 header byte count* * * * * * * * * * * * * * * * * * * * * * * * * * * * * * * *
END_USGS_HEADER *
