BEGIN_USGS_DOQ_HEADER *
QUADRANGLE_NAME "FORT JONES" 3.45 or 7.5-min. name*
QUADRANT SW quadrant indicator if cell size = 3.75-minutes*
WEST_LONGITUDE -122 52 30.000 signed deg min sec SDDD MM SS.SSS*
EAST_LONGITUDE -122 48 45.000 signed deg min sec SDDD MM SS.SSS*
NORTH_LATITUDE 41 33 45.000 signed deg min sec SDDD MM SS.SSS*
SOUTH_LATITUDE 41 30 0.000 signed deg min sec SDDD MM SS.SSS*
PRODUCTION_DATE 1995 12 7 yyyy mm dd*
RASTER_ORDER LEFT_RIGHT/TOP_BOTTOM video display order*
BAND_ORGANIZATION "SINGLE FILE" single file or BSQ, or BIL or BIP*
BAND_CONTENT BLACK&WHITE black&white or red green blue*
BITS_PER_PIXEL 8 radiometric resolution*
SAMPLES_AND_LINES 5932 7574 number of columns and rows*
HORIZONTAL_DATUM NAD83 primary horizontal datum*
HORIZONTAL_COORDINATE_SYSTEM UTM *
COORDINATE_ZONE 10 coordinate system zone number*
HORIZONTAL_UNITS METERS coordinate system units*
HORIZONTAL_RESOLUTION 1.00 pixel horiz. ground sample distance*
SECONDARY_HORIZONTAL_DATUM NAD27 secondary horizontal datum*
XY_ORIGIN 510022.500 4601524.500 coord. of upper left pixel pri. datum*
SECONDARY_XY_ORIGIN 510118.142 4601327.239 coord upper left pixel sec datum*
NATION US nation code*
STATE CA state fip code*
NW_QUAD_CORNER_XY 510422.810 4601210.500 XY coords. of pri. NW quad corner*
NE_QUAD_CORNER_XY 515634.217 4601219.929 XY coords. of pri. NE quad corner*
SE_QUAD_CORNER_XY 515649.273 4594281.189 XY coords. of pri. SE quad corner*
SW_QUAD_CORNER_XY 510432.847 4594271.763 XY coords. of pri. SW quad corner*
SECONDARY_NW_QUAD_XY 510423.095 4600997.648 XY coords. - sec. NW quad cor.*
SECONDARY_NE_QUAD_XY 515634.644 4601007.077 XY coords. - sec. NE quad cor.*
SECONDARY_SE_QUAD_XY 515649.699 4594068.439 XY coords. - sec. SE quad cor.*
SECONDARY_SW_QUAD_XY 510433.131 4594059.013 XY coords. - sec. SW quad cor.*
RMSE_XY 1.10 doq horiz. accuracy*
IMAGE_SOURCE "BLACK AND WHITE FILM" b&w, cir, natural color, other*
SOURCE_IMAGE_ID "PAPP 6256 868" source image id*
SOURCE_IMAGE_DATE 1993 8 26 source image date as yyyy mm dd*
SOURCE_DEM_DATE 1995 12 7 source dem date yyyy mm dd*
AGENCY "WESTERN MAPPING CENTER (WMC)" oversight agency*
PRODUCER "Woolpert Consultants" producer/contractor*
PRODUCTION_SYSTEM "INTERGRAPH ISPM,ISIR" production system*
STANDARD_VERSION 1996 12 version of DOQ standard*
METADATA_DATE 1997 5 23 date created or changed, yyyy mm dd*
DATA_FILE_SIZE 44934900 data set size in bytes*
BYTE_COUNT 5932 header byte count* * * * * * * * * * * * * * * * * * * * * * * * * * * * * * * *
END_USGS_HEADER *
