BEGIN_USGS_DOQ_HEADER *
QUADRANGLE_NAME "GREENVIEW" 3.45 or 7.5-min. name*
QUADRANT NW quadrant indicator if cell size = 3.75-minutes*
WEST_LONGITUDE -123 0 0.000 signed deg min sec SDDD MM SS.SSS*
EAST_LONGITUDE -122 56 15.000 signed deg min sec SDDD MM SS.SSS*
NORTH_LATITUDE 41 37 30.000 signed deg min sec SDDD MM SS.SSS*
SOUTH_LATITUDE 41 33 45.000 signed deg min sec SDDD MM SS.SSS*
PRODUCTION_DATE 1996 1 15 yyyy mm dd*
RASTER_ORDER LEFT_RIGHT/TOP_BOTTOM video display order*
BAND_ORGANIZATION "SINGLE FILE" single file or BSQ, or BIL or BIP*
BAND_CONTENT BLACK&WHITE black&white or red green blue*
BITS_PER_PIXEL 8 radiometric resolution*
SAMPLES_AND_LINES 5917 7567 number of columns and rows*
HORIZONTAL_DATUM NAD83 primary horizontal datum*
HORIZONTAL_COORDINATE_SYSTEM UTM *
COORDINATE_ZONE 10 coordinate system zone number*
HORIZONTAL_UNITS METERS coordinate system units*
HORIZONTAL_RESOLUTION 1.00 pixel horiz. ground sample distance*
SECONDARY_HORIZONTAL_DATUM NAD27 secondary horizontal datum*
XY_ORIGIN 499599.500 4608448.500 coord. of upper left pixel pri. datum*
SECONDARY_XY_ORIGIN 499695.081 4608251.384 coord upper left pixel sec datum*
NATION US nation code*
STATE CA state fip code*
NW_QUAD_CORNER_XY 500000.000 4608141.768 XY coords. of pri. NW quad corner*
NE_QUAD_CORNER_XY 505206.380 4608143.655 XY coords. of pri. NE quad corner*
SE_QUAD_CORNER_XY 505211.405 4601204.843 XY coords. of pri. SE quad corner*
SW_QUAD_CORNER_XY 500000.000 4601202.957 XY coords. of pri. SW quad corner*
SECONDARY_NW_QUAD_XY 500000.000 4607928.814 XY coords. - sec. NW quad cor.*
SECONDARY_NE_QUAD_XY 505206.522 4607930.700 XY coords. - sec. NE quad cor.*
SECONDARY_SE_QUAD_XY 505211.547 4600991.990 XY coords. - sec. SE quad cor.*
SECONDARY_SW_QUAD_XY 500000.000 4600990.105 XY coords. - sec. SW quad cor.*
RMSE_XY 2.70 doq horiz. accuracy*
IMAGE_SOURCE "BLACK AND WHITE FILM" b&w, cir, natural color, other*
SOURCE_IMAGE_ID "PAPP 6256 989" source image id*
SOURCE_IMAGE_DATE 1993 8 26 source image date as yyyy mm dd*
IMAGE_SOURCE "BLACK AND WHITE FILM" b&w, cir, natural color, other*
SOURCE_IMAGE_ID "PAPP 6256 5255" source image id*
SOURCE_IMAGE_DATE 1993 8 26 source image date as yyyy mm dd*
IMAGE_SOURCE "BLACK AND WHITE FILM" b&w, cir, natural color, other*
SOURCE_IMAGE_ID "PAPP 6256 171" source image id*
SOURCE_IMAGE_DATE 1993 8 26 source image date as yyyy mm dd*
SOURCE_DEM_DATE 1996 1 15 source dem date yyyy mm dd*
AGENCY "WESTERN MAPPING CENTER (WMC)" oversight agency*
PRODUCER "Woolpert Consultants" producer/contractor*
PRODUCTION_SYSTEM "INTERGRAPH ISPM,ISIR" production system*
STANDARD_VERSION 1996 12 version of DOQ standard*
METADATA_DATE 1997 5 23 date created or changed, yyyy mm dd*
DATA_FILE_SIZE 44779856 data set size in bytes*
BYTE_COUNT 5917 header byte count* * * * * * * * * * * * * * * * * * * * * * * * *
END_USGS_HEADER *
