BEGIN_USGS_DOQ_HEADER *
QUADRANGLE_NAME "YREKA" *
QUADRANT SE *
WEST_LONGITUDE -122 41 15.000 *
EAST_LONGITUDE -122 37 30.000 *
NORTH_LATITUDE 41 41 15.000 *
SOUTH_LATITUDE 41 37 30.000 *
PRODUCTION_DATE 2001 6 20 *
RASTER_ORDER LEFT_RIGHT/TOP_BOTTOM *
BAND_ORGANIZATION "SINGLE FILE" *
BAND_CONTENT BLACK&WHITE *
BITS_PER_PIXEL 8 *
SAMPLES_AND_LINES 5926 7575 *
HORIZONTAL_DATUM NAD83 *
HORIZONTAL_COORDINATE_SYSTEM UTM *
COORDINATE_ZONE 10 *
HORIZONTAL_UNITS METERS *
HORIZONTAL_RESOLUTION 1.0 *
SECONDARY_HORIZONTAL_DATUM NAD27 *
XY_ORIGIN 525612.020 4615448.578 *
SECONDARY_XY_ORIGIN 525707.473 4615251.117 *
NATION US *
STATE CA *
NW_QUAD_CORNER_XY 526006.761 4615127.824 *
NE_QUAD_CORNER_XY 531208.121 4615148.578 *
SE_QUAD_CORNER_XY 531238.307 4608209.674 *
SW_QUAD_CORNER_XY 526031.915 4608188.925 *
SECONDARY_NW_QUAD_XY 526007.475 4614914.772 *
SECONDARY_NE_QUAD_XY 531208.978 4614935.527 *
SECONDARY_SE_QUAD_XY 531239.163 4607996.723 *
SECONDARY_SW_QUAD_XY 526032.630 4607975.974 *
RMSE_XY 1.41 *
IMAGE_SOURCE "BLACK AND WHITE FILM" *
SOURCE_IMAGE_ID "NAPP 10485 133" *
SOURCE_IMAGE_DATE 1998 8 24 *
SOURCE_IMAGE_ID "NAPP 10485 132" *
SOURCE_IMAGE_DATE 1998 8 24 *
SOURCE_IMAGE_ID "NAPP 10485 134" *
SOURCE_IMAGE_DATE 1998 8 24 *
SOURCE_IMAGE_ID "NAPP 10494 74" *
SOURCE_IMAGE_DATE 1999 7 29 *
SOURCE_IMAGE_ID "NAPP 10485 58" *
SOURCE_IMAGE_DATE 1998 8 24 *
SOURCE_IMAGE_ID "NAPP 10485 57" *
SOURCE_IMAGE_DATE 1998 8 24 *
SOURCE_IMAGE_ID "NAPP 10481 173" *
SOURCE_IMAGE_DATE 1998 8 14 *
SOURCE_IMAGE_ID "NAPP 10481 172" *
SOURCE_IMAGE_DATE 1998 8 14 *
SOURCE_IMAGE_ID "NAPP 10481 171" *
SOURCE_IMAGE_DATE 1998 8 14 *
SOURCE_DEM_DATE 1984 1 1 *
AGENCY "WESTERN MAPPING CENTER (WMC)" *
PRODUCER "USDA FS GEOSPATIAL SERVICE AND TECHNOLOGY CENTER" *
PRODUCTION_SYSTEM "ORBIT OR_RECTIFY V.5.2" *
STANDARD_VERSION 1996 12 *
METADATA_DATE 2001 6 22 *
DATA_FILE_SIZE 44895376 *
BYTE_COUNT 5926 * * * * * * * * * * * * * * * *
END_USGS_HEADER *
