BEGIN_USGS_DOQ_HEADER *
QUADRANGLE_NAME "MACDOEL" *
QUADRANT SW *
WEST_LONGITUDE -122 7 30.000 *
EAST_LONGITUDE -122 3 45.000 *
NORTH_LATITUDE 41 48 45.000 *
SOUTH_LATITUDE 41 45 0.000 *
PRODUCTION_DATE 2001 5 14 *
RASTER_ORDER LEFT_RIGHT/TOP_BOTTOM *
BAND_ORGANIZATION "SINGLE FILE" *
BAND_CONTENT BLACK&WHITE *
BITS_PER_PIXEL 8 *
SAMPLES_AND_LINES 5958 7607 *
HORIZONTAL_DATUM NAD83 *
HORIZONTAL_COORDINATE_SYSTEM UTM *
COORDINATE_ZONE 10 *
HORIZONTAL_UNITS METERS *
HORIZONTAL_RESOLUTION 1.0 *
SECONDARY_HORIZONTAL_DATUM NAD27 *
XY_ORIGIN 572286.026 4629682.406 *
SECONDARY_XY_ORIGIN 572381.076 4629484.581 *
NATION US *
STATE CA *
NW_QUAD_CORNER_XY 572678.080 4629328.658 *
NE_QUAD_CORNER_XY 577869.422 4629383.406 *
SE_QUAD_CORNER_XY 577945.080 4622444.262 *
SW_QUAD_CORNER_XY 572748.693 4622389.527 *
SECONDARY_NW_QUAD_XY 572680.077 4629115.415 *
SECONDARY_NE_QUAD_XY 577871.562 4629170.164 *
SECONDARY_SE_QUAD_XY 577947.219 4622231.119 *
SECONDARY_SW_QUAD_XY 572750.689 4622176.384 *
RMSE_XY 1.82 *
IMAGE_SOURCE "BLACK AND WHITE FILM" *
SOURCE_IMAGE_ID "NAPP 10487 37" *
SOURCE_IMAGE_DATE 1998 8 27 *
SOURCE_IMAGE_ID "NAPP 10487 38" *
SOURCE_IMAGE_DATE 1998 8 27 *
SOURCE_IMAGE_ID "NAPP 10487 36" *
SOURCE_IMAGE_DATE 1998 8 27 *
SOURCE_IMAGE_ID "NAPP 10487 71" *
SOURCE_IMAGE_DATE 1998 8 27 *
SOURCE_IMAGE_ID "NAPP 10487 72" *
SOURCE_IMAGE_DATE 1998 8 27 *
SOURCE_IMAGE_ID "NAPP 10487 73" *
SOURCE_IMAGE_DATE 1998 8 27 *
SOURCE_IMAGE_ID "NAPP 10487 13" *
SOURCE_IMAGE_DATE 1998 8 27 *
SOURCE_IMAGE_ID "NAPP 10487 14" *
SOURCE_IMAGE_DATE 1998 8 27 *
SOURCE_IMAGE_ID "NAPP 10487 15" *
SOURCE_IMAGE_DATE 1998 8 27 *
SOURCE_DEM_DATE 2000 0 0 *
AGENCY "WESTERN MAPPING CENTER (WMC)" *
PRODUCER "USDA FS GEOSPATIAL SERVICE AND TECHNOLOGY CENTER" *
PRODUCTION_SYSTEM "ORBIT OR_RECTIFY V.5.2" *
STANDARD_VERSION 1996 12 *
METADATA_DATE 2001 5 15 *
DATA_FILE_SIZE 45328464 *
BYTE_COUNT 5958 * * * * * * * * * * * * * * * *
END_USGS_HEADER *
