BEGIN_USGS_DOQ_HEADER *
QUADRANGLE_NAME "DEWEY GULCH" 3.45 or 7.5-min. name*
QUADRANT SE quadrant indicator if cell size = 3.75-minutes*
WEST_LONGITUDE -122 18 45.000 signed deg min sec SDDD MM SS.SSS*
EAST_LONGITUDE -122 15 0.000 signed deg min sec SDDD MM SS.SSS*
NORTH_LATITUDE 41 48 45.000 signed deg min sec SDDD MM SS.SSS*
SOUTH_LATITUDE 41 45 0.000 signed deg min sec SDDD MM SS.SSS*
PRODUCTION_DATE 1995 11 19 yyyy mm dd*
RASTER_ORDER LEFT_RIGHT/TOP_BOTTOM video display order*
BAND_ORGANIZATION "SINGLE FILE" single file or BSQ, or BIL or BIP*
BAND_CONTENT BLACK&WHITE black&white or red green blue*
BITS_PER_PIXEL 8 radiometric resolution*
SAMPLES_AND_LINES 5952 7604 number of columns and rows*
HORIZONTAL_DATUM NAD83 primary horizontal datum*
HORIZONTAL_COORDINATE_SYSTEM UTM *
COORDINATE_ZONE 10 coordinate system zone number*
HORIZONTAL_UNITS METERS coordinate system units*
HORIZONTAL_RESOLUTION 1.00 pixel horiz. ground sample distance*
SECONDARY_HORIZONTAL_DATUM NAD27 secondary horizontal datum*
XY_ORIGIN 556707.500 4629533.500 coord. of upper left pixel pri. datum*
SECONDARY_XY_ORIGIN 556801.636 4629336.753 coord upper left pixel sec datum*
NATION US nation code*
STATE CA state fip code*
NW_QUAD_CORNER_XY 557104.110 4629187.071 XY coords. of pri. NW quad corner*
NE_QUAD_CORNER_XY 562295.424 4629230.491 XY coords. of pri. NE quad corner*
SE_QUAD_CORNER_XY 562355.949 4622291.385 XY coords. of pri. SE quad corner*
SW_QUAD_CORNER_XY 557159.590 4622247.976 XY coords. of pri. SW quad corner*
SECONDARY_NW_QUAD_XY 557105.677 4628973.823 XY coords. - sec. NW quad cor.*
SECONDARY_NE_QUAD_XY 562297.134 4629017.243 XY coords. - sec. NE quad cor.*
SECONDARY_SE_QUAD_XY 562357.657 4622078.237 XY coords. - sec. SE quad cor.*
SECONDARY_SW_QUAD_XY 557161.156 4622034.827 XY coords. - sec. SW quad cor.*
RMSE_XY 0.90 doq horiz. accuracy*
IMAGE_SOURCE "BLACK AND WHITE FILM" b&w, cir, natural color, other*
SOURCE_IMAGE_ID "PAPP 4254 757" source image id*
SOURCE_IMAGE_DATE 1993 8 25 source image date as yyyy mm dd*
SOURCE_DEM_DATE 1995 11 19 source dem date yyyy mm dd*
AGENCY "WESTERN MAPPING CENTER (WMC)" oversight agency*
PRODUCER "Woolpert Consultants" producer/contractor*
PRODUCTION_SYSTEM "INTERGRAPH ISPM,ISIR" production system*
STANDARD_VERSION 1996 12 version of DOQ standard*
METADATA_DATE 1997 5 22 date created or changed, yyyy mm dd*
DATA_FILE_SIZE 45264960 data set size in bytes*
BYTE_COUNT 5952 header byte count* * * * * * * * * * * * * * * * * * * * * * * * * * * * * * * *
END_USGS_HEADER *
