BEGIN_USGS_DOQ_HEADER *
QUADRANGLE_NAME "HAWKINSVILLE" 3.45 or 7.5-min. name*
QUADRANT NE quadrant indicator if cell size = 3.75-minutes*
WEST_LONGITUDE -122 33 45.000 signed deg min sec SDDD MM SS.SSS*
EAST_LONGITUDE -122 30 0.000 signed deg min sec SDDD MM SS.SSS*
NORTH_LATITUDE 41 52 30.000 signed deg min sec SDDD MM SS.SSS*
SOUTH_LATITUDE 41 48 45.000 signed deg min sec SDDD MM SS.SSS*
PRODUCTION_DATE 1995 12 21 yyyy mm dd*
RASTER_ORDER LEFT_RIGHT/TOP_BOTTOM video display order*
BAND_ORGANIZATION "SINGLE FILE" single file or BSQ, or BIL or BIP*
BAND_CONTENT BLACK&WHITE black&white or red green blue*
BITS_PER_PIXEL 8 radiometric resolution*
SAMPLES_AND_LINES 5931 7594 number of columns and rows*
HORIZONTAL_DATUM NAD83 primary horizontal datum*
HORIZONTAL_COORDINATE_SYSTEM UTM *
COORDINATE_ZONE 10 coordinate system zone number*
HORIZONTAL_UNITS METERS coordinate system units*
HORIZONTAL_RESOLUTION 1.00 pixel horiz. ground sample distance*
SECONDARY_HORIZONTAL_DATUM NAD27 secondary horizontal datum*
XY_ORIGIN 535904.500 4636323.500 coord. of upper left pixel pri. datum*
SECONDARY_XY_ORIGIN 535999.698 4636125.948 coord upper left pixel sec datum*
NATION US nation code*
STATE CA state fip code*
NW_QUAD_CORNER_XY 536303.572 4635990.290 XY coords. of pri. NW quad corner*
NE_QUAD_CORNER_XY 541489.811 4636018.612 XY coords. of pri. NE quad corner*
SE_QUAD_CORNER_XY 541530.208 4629079.469 XY coords. of pri. SE quad corner*
SW_QUAD_CORNER_XY 536338.920 4629051.153 XY coords. of pri. SW quad corner*
SECONDARY_NW_QUAD_XY 536304.570 4635776.939 XY coords. - sec. NW quad cor.*
SECONDARY_NE_QUAD_XY 541490.951 4635805.263 XY coords. - sec. NE quad cor.*
SECONDARY_SE_QUAD_XY 541531.348 4628866.218 XY coords. - sec. SE quad cor.*
SECONDARY_SW_QUAD_XY 536339.917 4628837.901 XY coords. - sec. SW quad cor.*
RMSE_XY 2.80 doq horiz. accuracy*
IMAGE_SOURCE "BLACK AND WHITE FILM" b&w, cir, natural color, other*
SOURCE_IMAGE_ID "PAPP 9249 040" source image id*
SOURCE_IMAGE_DATE 1993 6 13 source image date as yyyy mm dd*
SOURCE_DEM_DATE 1995 12 21 source dem date yyyy mm dd*
AGENCY "WESTERN MAPPING CENTER (WMC)" oversight agency*
PRODUCER "Woolpert Consultants" producer/contractor*
PRODUCTION_SYSTEM "INTERGRAPH ISPM,ISIR" production system*
STANDARD_VERSION 1996 12 version of DOQ standard*
METADATA_DATE 1997 5 23 date created or changed, yyyy mm dd*
DATA_FILE_SIZE 45045945 data set size in bytes*
BYTE_COUNT 5931 header byte count* * * * * * * * * * * * * * * * * * * * * * * * * * * * * * * *
END_USGS_HEADER *
