BEGIN_USGS_DOQ_HEADER *
QUADRANGLE_NAME "BADGER MOUNTAIN" *
QUADRANT SE *
WEST_LONGITUDE -122 41 15.000 *
EAST_LONGITUDE -122 37 30.000 *
NORTH_LATITUDE 41 48 45.000 *
SOUTH_LATITUDE 41 45 0.000 *
PRODUCTION_DATE 2001 6 20 *
RASTER_ORDER LEFT_RIGHT/TOP_BOTTOM *
BAND_ORGANIZATION "SINGLE FILE" *
BAND_CONTENT BLACK&WHITE *
BITS_PER_PIXEL 8 *
SAMPLES_AND_LINES 5916 7576 *
HORIZONTAL_DATUM NAD83 *
HORIZONTAL_COORDINATE_SYSTEM UTM *
COORDINATE_ZONE 10 *
HORIZONTAL_UNITS METERS *
HORIZONTAL_RESOLUTION 1.0 *
SECONDARY_HORIZONTAL_DATUM NAD27 *
XY_ORIGIN 525561.743 4629326.613 *
SECONDARY_XY_ORIGIN 525657.072 4629129.161 *
NATION US *
STATE CA *
NW_QUAD_CORNER_XY 525956.358 4629005.848 *
NE_QUAD_CORNER_XY 531147.637 4629026.613 *
SE_QUAD_CORNER_XY 531177.897 4622087.558 *
SW_QUAD_CORNER_XY 525981.575 4622066.798 *
SECONDARY_NW_QUAD_XY 525957.073 4628792.597 *
SECONDARY_NE_QUAD_XY 531148.494 4628813.362 *
SECONDARY_SE_QUAD_XY 531178.755 4621874.406 *
SECONDARY_SW_QUAD_XY 525982.289 4621853.646 *
RMSE_XY 3.08 *
IMAGE_SOURCE "BLACK AND WHITE FILM" *
SOURCE_IMAGE_ID "NAPP 10485 137" *
SOURCE_IMAGE_DATE 1998 8 24 *
SOURCE_IMAGE_ID "NAPP 10485 136" *
SOURCE_IMAGE_DATE 1998 8 24 *
SOURCE_IMAGE_ID "NAPP 10485 138" *
SOURCE_IMAGE_DATE 1998 8 24 *
SOURCE_IMAGE_ID "NAPP 10485 55" *
SOURCE_IMAGE_DATE 1998 8 24 *
SOURCE_IMAGE_ID "NAPP 10485 54" *
SOURCE_IMAGE_DATE 1998 8 24 *
SOURCE_IMAGE_ID "NAPP 10485 53" *
SOURCE_IMAGE_DATE 1998 8 24 *
SOURCE_IMAGE_ID "NAPP 10481 169" *
SOURCE_IMAGE_DATE 1998 8 14 *
SOURCE_IMAGE_ID "NAPP 10481 168" *
SOURCE_IMAGE_DATE 1998 8 14 *
SOURCE_IMAGE_ID "NAPP 10481 167" *
SOURCE_IMAGE_DATE 1998 8 14 *
SOURCE_DEM_DATE 2000 0 0 *
AGENCY "WESTERN MAPPING CENTER (WMC)" *
PRODUCER "USDA FS GEOSPATIAL SERVICE AND TECHNOLOGY CENTER" *
PRODUCTION_SYSTEM "ORBIT OR_RECTIFY V.5.2" *
STANDARD_VERSION 1996 12 *
METADATA_DATE 2001 6 22 *
DATA_FILE_SIZE 44825532 *
BYTE_COUNT 5916 * * * * * * * * * * * * * * *
END_USGS_HEADER *
